BEGIN:VCALENDAR
VERSION:2.0
PRODID:-//Tess Training | สถาบันฝึกอบรมการขาย หลักสูตรการบริการ และสัมมนาครบวงจร - ECPv6.15.20//NONSGML v1.0//EN
CALSCALE:GREGORIAN
METHOD:PUBLISH
X-ORIGINAL-URL:https://tesstraining.com
X-WR-CALDESC:Events for Tess Training | สถาบันฝึกอบรมการขาย หลักสูตรการบริการ และสัมมนาครบวงจร
REFRESH-INTERVAL;VALUE=DURATION:PT1H
X-Robots-Tag:noindex
X-PUBLISHED-TTL:PT1H
BEGIN:VTIMEZONE
TZID:Asia/Krasnoyarsk
BEGIN:STANDARD
TZOFFSETFROM:+0700
TZOFFSETTO:+0700
TZNAME:+07
DTSTART:20230101T000000
END:STANDARD
END:VTIMEZONE
BEGIN:VEVENT
DTSTART;VALUE=DATE:20240409
DTEND;VALUE=DATE:20240410
DTSTAMP:20260425T225051
CREATED:20231224T064710Z
LAST-MODIFIED:20240314T025453Z
UID:2038-1712620800-1712707199@tesstraining.com
SUMMARY:หลักสูตร Proactive Service Mind ทักษะบริการเชิงรุก
DESCRIPTION:หลักสูตร Proactive Service Mind ทักษะบริการเชิงรุก
URL:https://tesstraining.com/calendartess/%e0%b8%ab%e0%b8%a5%e0%b8%b1%e0%b8%81%e0%b8%aa%e0%b8%b9%e0%b8%95%e0%b8%a3-proactive-service-mind-%e0%b8%97%e0%b8%b1%e0%b8%81%e0%b8%a9%e0%b8%b0%e0%b8%9a%e0%b8%a3%e0%b8%b4%e0%b8%81%e0%b8%b2%e0%b8%a3/
LOCATION:Onsite โรงแรมโนโวเทล / Online Zoom
CATEGORIES:Public ด้านการขาย การตลาด การบริการ,อาจารย์ประเสริฐ สุขไพบูลย์กุล
ATTACH;FMTTYPE=image/jpeg:https://tesstraining.com/wp-content/uploads/2023/12/Proactive-Service-mind-ยกระดับการบริการให้เหนือชั้น-01-01-01-copy.jpg
END:VEVENT
END:VCALENDAR