BEGIN:VCALENDAR
VERSION:2.0
PRODID:-//Tess Training | สถาบันฝึกอบรมการขาย หลักสูตรการบริการ และสัมมนาครบวงจร - ECPv6.15.17.1//NONSGML v1.0//EN
CALSCALE:GREGORIAN
METHOD:PUBLISH
X-ORIGINAL-URL:https://tesstraining.com
X-WR-CALDESC:Events for Tess Training | สถาบันฝึกอบรมการขาย หลักสูตรการบริการ และสัมมนาครบวงจร
REFRESH-INTERVAL;VALUE=DURATION:PT1H
X-Robots-Tag:noindex
X-PUBLISHED-TTL:PT1H
BEGIN:VTIMEZONE
TZID:Asia/Krasnoyarsk
BEGIN:STANDARD
TZOFFSETFROM:+0700
TZOFFSETTO:+0700
TZNAME:+07
DTSTART:20250101T000000
END:STANDARD
END:VTIMEZONE
BEGIN:VEVENT
DTSTART;TZID=Asia/Krasnoyarsk:20260528T090000
DTEND;TZID=Asia/Krasnoyarsk:20260529T160000
DTSTAMP:20260422T050659
CREATED:20230323T145139Z
LAST-MODIFIED:20260322T141024Z
UID:1366-1779958800-1780070400@tesstraining.com
SUMMARY:หลักสูตร สุดยอดการเป็นวิทยากร TRAIN THE TRAINER อ.ประเสริฐ
DESCRIPTION:หลักสูตร สุดยอดการเป็นวิทยากร TRAIN THE TRAINER อ.ประเสริฐ\nคลิ๊กชื่อหลักสูตร เพื่อดูรายละเอียดเนื้อหา
URL:https://tesstraining.com/calendartess/%e0%b8%ab%e0%b8%a5%e0%b8%b1%e0%b8%81%e0%b8%aa%e0%b8%b9%e0%b8%95%e0%b8%a3%e0%b8%aa%e0%b8%b8%e0%b8%94%e0%b8%a2%e0%b8%ad%e0%b8%94%e0%b8%81%e0%b8%b2%e0%b8%a3%e0%b9%80%e0%b8%9b%e0%b9%87%e0%b8%99%e0%b8%a7/
LOCATION:โรงแรมแรมแบรนดท์ สุขุมวิท 18-20\, โรงแรมแรมแบรนดท์ สุขุมวิท 18 ถนนสุขุมวิท คลองเตย กรุงเทพฯ 10110\, Bangkok\, 10110\, Thailand
CATEGORIES:Public ด้านการบริหาร ผู้นำ HR,อาจารย์ประเสริฐ สุขไพบูลย์กุล
ATTACH;FMTTYPE=image/jpeg:https://tesstraining.com/wp-content/uploads/2023/03/สุดยอดการเป็นวิทยากร-01.jpg
END:VEVENT
BEGIN:VEVENT
DTSTART;VALUE=DATE:20260529
DTEND;VALUE=DATE:20260530
DTSTAMP:20260422T050659
CREATED:20240906T064956Z
LAST-MODIFIED:20260204T081658Z
UID:2732-1780012800-1780099199@tesstraining.com
SUMMARY:หลักสูตร เทคนิคการนำเสนออย่างมืออาชีพ อ.ประเสริฐ
DESCRIPTION:หลักสูตร เทคนิคการนำเสนออย่างมืออาชีพ อ.ประเสริฐ
URL:https://tesstraining.com/calendartess/%e0%b8%ab%e0%b8%a5%e0%b8%b1%e0%b8%81%e0%b8%aa%e0%b8%b9%e0%b8%95%e0%b8%a3-%e0%b9%80%e0%b8%97%e0%b8%84%e0%b8%99%e0%b8%b4%e0%b8%84%e0%b8%81%e0%b8%b2%e0%b8%a3%e0%b8%99%e0%b8%b3%e0%b9%80%e0%b8%aa-4/
LOCATION:Onsite โรงแรมโนโวเทล / Online Zoom
CATEGORIES:Public ด้านการบริหาร ผู้นำ HR,อาจารย์ประเสริฐ สุขไพบูลย์กุล
ATTACH;FMTTYPE=image/jpeg:https://tesstraining.com/wp-content/uploads/2024/09/419-1030x590-1.jpg
END:VEVENT
BEGIN:VEVENT
DTSTART;TZID=Asia/Krasnoyarsk:20260529T090000
DTEND;TZID=Asia/Krasnoyarsk:20260529T160000
DTSTAMP:20260422T050659
CREATED:20230323T144312Z
LAST-MODIFIED:20251125T060433Z
UID:1361-1780045200-1780070400@tesstraining.com
SUMMARY:หลักสูตร วิเคราะห์ประเมินความเสี่ยงทางธุรกิจด้วยนวัตกรรมข้อมูล (DATA SCIENCE)
DESCRIPTION:หลักสูตร วิเคราะห์ประเมินความเสี่ยงทางธุรกิจด้วยนวัตกรรมข้อมูล (DATA SCIENCE)\nคลิ๊กชื่อหลักสูตร เพื่อดูรายละเอียดเนื้อหา
URL:https://tesstraining.com/calendartess/%e0%b8%ab%e0%b8%a5%e0%b8%b1%e0%b8%81%e0%b8%aa%e0%b8%b9%e0%b8%95%e0%b8%a3-%e0%b8%a7%e0%b8%b4%e0%b9%80%e0%b8%84%e0%b8%a3%e0%b8%b2%e0%b8%b0%e0%b8%ab%e0%b9%8c%e0%b8%9b%e0%b8%a3%e0%b8%b0%e0%b9%80%e0%b8%a1/
LOCATION:Online Zoom
CATEGORIES:Public ด้านธุรกิจ ภาษา คอมพิวเตอร์,อาจารย์วรเกษมสันต์ สิริศุภรัชต์
ATTACH;FMTTYPE=image/jpeg:https://tesstraining.com/wp-content/uploads/2023/03/614.jpg
END:VEVENT
BEGIN:VEVENT
DTSTART;TZID=Asia/Krasnoyarsk:20260610T090000
DTEND;TZID=Asia/Krasnoyarsk:20260610T160000
DTSTAMP:20260422T050659
CREATED:20230323T151548Z
LAST-MODIFIED:20260322T141207Z
UID:1382-1781082000-1781107200@tesstraining.com
SUMMARY:หลักสูตร การพัฒนาบุคลิกภาพพนักงาน เพื่อความสำเร็จขององค์กร
DESCRIPTION:หลักสูตร การพัฒนาบุคลิกภาพพนักงาน เพื่อความสำเร็จขององค์กร\nคลิ๊กชื่อหลักสูตร เพื่อดูรายละเอียดเนื้อหา
URL:https://tesstraining.com/calendartess/%e0%b8%ab%e0%b8%a5%e0%b8%b1%e0%b8%81%e0%b8%aa%e0%b8%b9%e0%b8%95%e0%b8%a3-%e0%b8%81%e0%b8%b2%e0%b8%a3%e0%b8%9e%e0%b8%b1%e0%b8%92%e0%b8%99%e0%b8%b2%e0%b8%9a%e0%b8%b8%e0%b8%84%e0%b8%a5%e0%b8%b4%e0%b8%81/
LOCATION:โรงแรมโนโวเทล สุขุมวิท 20
CATEGORIES:Public ด้านการขาย การตลาด การบริการ,Public ด้านการบริหาร ผู้นำ HR,อาจารย์นทษร สุขสารอมรกุล
ATTACH;FMTTYPE=image/jpeg:https://tesstraining.com/wp-content/uploads/2023/03/การพัฒนาบุคลิกภาพนทษร-01-01-01-01-scaled.jpg
END:VEVENT
BEGIN:VEVENT
DTSTART;TZID=Asia/Krasnoyarsk:20260613T090000
DTEND;TZID=Asia/Krasnoyarsk:20260613T160000
DTSTAMP:20260422T050659
CREATED:20230323T145858Z
LAST-MODIFIED:20260204T081920Z
UID:1370-1781341200-1781366400@tesstraining.com
SUMMARY:หลักสูตร Six Sigma เบื้องต้นและการประยุกต์ใช้อย่างมีประสิทธิภาพ
DESCRIPTION:หลักสูตร Six Sigma เบื้องต้นและการประยุกต์ใช้อย่างมีประสิทธิภาพ\nคลิ๊กชื่อหลักสูตร เพื่อดูรายละเอียดเนื้อหา
URL:https://tesstraining.com/calendartess/%e0%b8%ab%e0%b8%a5%e0%b8%b1%e0%b8%81%e0%b8%aa%e0%b8%b9%e0%b8%95%e0%b8%a3-six-sigma-%e0%b9%80%e0%b8%9a%e0%b8%b7%e0%b9%89%e0%b8%ad%e0%b8%87%e0%b8%95%e0%b9%89%e0%b8%99%e0%b9%81%e0%b8%a5%e0%b8%b0%e0%b8%81/
LOCATION:Onsite โรงแรมโนโวเทล / Online Zoom
CATEGORIES:Public ด้านอุตสาหกรรม โรงงาน,อาจารย์ณรงค์ ตู้ทอง
ATTACH;FMTTYPE=image/jpeg:https://tesstraining.com/wp-content/uploads/2023/03/332.jpg
END:VEVENT
BEGIN:VEVENT
DTSTART;VALUE=DATE:20260618
DTEND;VALUE=DATE:20260619
DTSTAMP:20260422T050659
CREATED:20230324T043247Z
LAST-MODIFIED:20260322T140441Z
UID:1584-1781740800-1781827199@tesstraining.com
SUMMARY:หลักสูตร เทคนิคโน้มน้าวเพื่อปิดการขายอย่างเหนือชั้น อ.ประเสริฐ
DESCRIPTION:หลักสูตร เทคนิคโน้มน้าวเพื่อปิดการขายอย่างเหนือชั้น อ.ประเสริฐ\nคลิ๊กชื่อหลักสูตร เพื่อดูรายละเอียดเนื้อหา
URL:https://tesstraining.com/calendartess/%e0%b8%ab%e0%b8%a5%e0%b8%b1%e0%b8%81%e0%b8%aa%e0%b8%b9%e0%b8%95%e0%b8%a3-%e0%b9%80%e0%b8%97%e0%b8%84%e0%b8%99%e0%b8%b4%e0%b8%84%e0%b9%82%e0%b8%99%e0%b9%89%e0%b8%a1%e0%b8%99%e0%b9%89%e0%b8%b2%e0%b8%a7/
LOCATION:Online Zoom
CATEGORIES:Public ด้านการขาย การตลาด การบริการ,อาจารย์ประเสริฐ สุขไพบูลย์กุล
ATTACH;FMTTYPE=image/jpeg:https://tesstraining.com/wp-content/uploads/2023/03/321.jpg
END:VEVENT
BEGIN:VEVENT
DTSTART;VALUE=DATE:20260619
DTEND;VALUE=DATE:20260620
DTSTAMP:20260422T050659
CREATED:20250206T032806Z
LAST-MODIFIED:20251125T062003Z
UID:2887-1781827200-1781913599@tesstraining.com
SUMMARY:Online Zoom หลักสูตร PDPA พระราชบัญญัติคุ้มครองข้อมูลส่วนบุคคล
DESCRIPTION:Online Zoom เปิดรับสมัคร ยืนยัน หลักสูตร PDPA พระราชบัญญัติคุ้มครองข้อมูลส่วนบุคคล\n 
URL:https://tesstraining.com/calendartess/online-zoom-%e0%b8%ab%e0%b8%a5%e0%b8%b1%e0%b8%81%e0%b8%aa%e0%b8%b9%e0%b8%95%e0%b8%a3-pdpa-%e0%b8%9e%e0%b8%a3%e0%b8%b0%e0%b8%a3%e0%b8%b2%e0%b8%8a%e0%b8%9a%e0%b8%b1%e0%b8%8d%e0%b8%8d%e0%b8%b1%e0%b8%95/
CATEGORIES:Public ด้านการบริหาร ผู้นำ HR,อาจารย์พลกฤต โสลาพากุล
ATTACH;FMTTYPE=image/jpeg:https://tesstraining.com/wp-content/uploads/2025/02/Pic-PDPA-online-T-.jpg
END:VEVENT
BEGIN:VEVENT
DTSTART;TZID=Asia/Krasnoyarsk:20260619T090000
DTEND;TZID=Asia/Krasnoyarsk:20260619T160000
DTSTAMP:20260422T050659
CREATED:20230327T142525Z
LAST-MODIFIED:20251125T063349Z
UID:1624-1781859600-1781884800@tesstraining.com
SUMMARY:หลักสูตร ข้อกำหนด GHPs HACCP Requirements rev.6-2022
DESCRIPTION:หลักสูตร ข้อกำหนด GHPs HACCP Requirements rev.6-2022\nIndustrial port and container yard \n  \n 
URL:https://tesstraining.com/calendartess/%e0%b8%ab%e0%b8%a5%e0%b8%b1%e0%b8%81%e0%b8%aa%e0%b8%b9%e0%b8%95%e0%b8%a3-%e0%b8%9b%e0%b8%a3%e0%b8%b1%e0%b8%9a%e0%b9%80%e0%b8%9b%e0%b8%a5%e0%b8%b5%e0%b9%88%e0%b8%a2%e0%b8%99-ghp-haccp-revision-5/
LOCATION:Onsite โรงแรมโนโวเทล / Online Zoom
CATEGORIES:Public ด้านอุตสาหกรรม โรงงาน,อาจารย์ทิพอาภา ลี้ประเสริฐ
ATTACH;FMTTYPE=image/jpeg:https://tesstraining.com/wp-content/uploads/2023/03/HACCP-REQUIREMENTS-1-copy.jpg
END:VEVENT
BEGIN:VEVENT
DTSTART;TZID=Asia/Krasnoyarsk:20260625T090000
DTEND;TZID=Asia/Krasnoyarsk:20260625T160000
DTSTAMP:20260422T050659
CREATED:20230324T042603Z
LAST-MODIFIED:20260322T141436Z
UID:1578-1782378000-1782403200@tesstraining.com
SUMMARY:หลักสูตร ทักษะการนำเสนอผลิตภัณฑ์ขายอย่างมืออาชีพ
DESCRIPTION:หลักสูตร ทักษะการนำเสนอผลิตภัณฑ์ขายอย่างมืออาชีพ\nคลิ๊กชื่อหลักสูตร เพื่อดูรายละเอียดเนื้อหา
URL:https://tesstraining.com/calendartess/%e0%b8%ab%e0%b8%a5%e0%b8%b1%e0%b8%81%e0%b8%aa%e0%b8%b9%e0%b8%95%e0%b8%a3-%e0%b9%80%e0%b8%97%e0%b8%84%e0%b8%99%e0%b8%b4%e0%b8%84%e0%b8%81%e0%b8%b2%e0%b8%a3%e0%b8%99%e0%b8%b3%e0%b9%80%e0%b8%aa%e0%b8%99/
LOCATION:โรงแรมแรมแบรนดท์ สุขุมวิท 18-20\, โรงแรมแรมแบรนดท์ สุขุมวิท 18 ถนนสุขุมวิท คลองเตย กรุงเทพฯ 10110\, Bangkok\, 10110\, Thailand
CATEGORIES:Public ด้านการขาย การตลาด การบริการ,อาจารย์ประเสริฐ สุขไพบูลย์กุล
ATTACH;FMTTYPE=image/jpeg:https://tesstraining.com/wp-content/uploads/2023/03/Pic-เทคนิคการนำเสนอ-เพื่อการขาย-copy.jpg
END:VEVENT
BEGIN:VEVENT
DTSTART;VALUE=DATE:20260626
DTEND;VALUE=DATE:20260627
DTSTAMP:20260422T050659
CREATED:20231224T071146Z
LAST-MODIFIED:20251125T062823Z
UID:2054-1782432000-1782518399@tesstraining.com
SUMMARY:หลักสูตร สร้างวิถีการทำงานที่ประสบความสำเร็จในสไตล์ญี่ปุ่น
DESCRIPTION:หลักสูตร สร้างวิถีการทำงานที่ประสบความสำเร็จในสไตล์ญี่ปุ่น
URL:https://tesstraining.com/calendartess/%e0%b8%ab%e0%b8%a5%e0%b8%b1%e0%b8%81%e0%b8%aa%e0%b8%b9%e0%b8%95%e0%b8%a3-%e0%b8%aa%e0%b8%a3%e0%b9%89%e0%b8%b2%e0%b8%87%e0%b8%a7%e0%b8%b4%e0%b8%96%e0%b8%b5%e0%b8%81%e0%b8%b2%e0%b8%a3%e0%b8%97%e0%b8%b3/
LOCATION:Onsite โรงแรมโนโวเทล / Online Zoom
CATEGORIES:Public ด้านการบริหาร ผู้นำ HR,อาจารย์ประเสริฐ สุขไพบูลย์กุล
ATTACH;FMTTYPE=image/jpeg:https://tesstraining.com/wp-content/uploads/2023/12/สร้างวิถีการทำงานที่ประสบความสำเร็จ-copy.jpg
END:VEVENT
BEGIN:VEVENT
DTSTART;TZID=Asia/Krasnoyarsk:20260626T090000
DTEND;TZID=Asia/Krasnoyarsk:20260626T160000
DTSTAMP:20260422T050659
CREATED:20230324T032648Z
LAST-MODIFIED:20260322T140301Z
UID:1565-1782464400-1782489600@tesstraining.com
SUMMARY:หลักสูตร เอกสารที่ใช้ในธุรกิจการค้าระหว่างประเทศ
DESCRIPTION:หลักสูตร เอกสารที่ใช้ในธุรกิจการค้าระหว่างประเทศ\nคลิ๊กชื่อหลักสูตร เพื่อดูรายละเอียดเนื้อหา 
URL:https://tesstraining.com/calendartess/%e0%b8%ab%e0%b8%a5%e0%b8%b1%e0%b8%81%e0%b8%aa%e0%b8%b9%e0%b8%95%e0%b8%a3-%e0%b9%80%e0%b8%ad%e0%b8%81%e0%b8%aa%e0%b8%b2%e0%b8%a3%e0%b8%97%e0%b8%b5%e0%b9%88%e0%b9%83%e0%b8%8a%e0%b9%89%e0%b9%83%e0%b8%99/
LOCATION:Onsite โรงแรมโนโวเทล / Online Zoom
CATEGORIES:Public ด้านการขาย การตลาด การบริการ,อาจารย์วิรัตน์ บาหยัน
ATTACH;FMTTYPE=image/jpeg:https://tesstraining.com/wp-content/uploads/2023/03/เอกสารที่ใช้ในธุรกิจการค้าระหว่างประเทศ-copy.jpg
END:VEVENT
BEGIN:VEVENT
DTSTART;TZID=Asia/Krasnoyarsk:20260626T090000
DTEND;TZID=Asia/Krasnoyarsk:20260626T160000
DTSTAMP:20260422T050659
CREATED:20230522T072814Z
LAST-MODIFIED:20260204T081431Z
UID:1891-1782464400-1782489600@tesstraining.com
SUMMARY:หลักสูตร เทคนิคการนำเสนอผลงานด้วย POWERPOINT อย่างมืออาชีพ (CREATING PROFESSIONAL PRESENTATION WITH POWERPOINT)
DESCRIPTION:หลักสูตร เทคนิคการนำเสนอผลงานด้วย POWERPOINT อย่างมืออาชีพ (CREATING PROFESSIONAL PRESENTATION WITH POWERPOINT)\n 
URL:https://tesstraining.com/calendartess/%e0%b8%ab%e0%b8%a5%e0%b8%b1%e0%b8%81%e0%b8%aa%e0%b8%b9%e0%b8%95%e0%b8%a3-%e0%b9%80%e0%b8%97%e0%b8%84%e0%b8%99%e0%b8%b4%e0%b8%84%e0%b8%81%e0%b8%b2%e0%b8%a3%e0%b8%99%e0%b8%b3%e0%b9%80%e0%b8%aa-3/
LOCATION:โรงแรมโนโวเทล สุขุมวิท 20
CATEGORIES:Public ด้านอุตสาหกรรม โรงงาน,อาจารย์ทิพอาภา ลี้ประเสริฐ
ATTACH;FMTTYPE=image/jpeg:https://tesstraining.com/wp-content/uploads/2023/05/POWERPOINT-copy.jpg
END:VEVENT
BEGIN:VEVENT
DTSTART;VALUE=DATE:20260709
DTEND;VALUE=DATE:20260710
DTSTAMP:20260422T050659
CREATED:20231224T063820Z
LAST-MODIFIED:20260322T141443Z
UID:2034-1783555200-1783641599@tesstraining.com
SUMMARY:หลักสูตร 7 ทักษะกระบวนการขาย สู่การเป็นนักขายชั้นเลิศ อ.ประเสริฐ
DESCRIPTION:หลักสูตร 7 ทักษะกระบวนการขาย สู่การเป็นนักขายชั้นเลิศ\n\n\n 
URL:https://tesstraining.com/calendartess/%e0%b8%ab%e0%b8%a5%e0%b8%b1%e0%b8%81%e0%b8%aa%e0%b8%b9%e0%b8%95%e0%b8%a3-7-%e0%b8%97%e0%b8%b1%e0%b8%81%e0%b8%a9%e0%b8%b0%e0%b8%81%e0%b8%a3%e0%b8%b0%e0%b8%9a%e0%b8%a7%e0%b8%99%e0%b8%81%e0%b8%b2/
LOCATION:Onsite โรงแรมโนโวเทล / Online Zoom
CATEGORIES:Public ด้านการขาย การตลาด การบริการ,อาจารย์ประเสริฐ สุขไพบูลย์กุล
ATTACH;FMTTYPE=image/jpeg:https://tesstraining.com/wp-content/uploads/2023/12/7ทักษะกระบวนการขาย-copy.jpg
END:VEVENT
BEGIN:VEVENT
DTSTART;VALUE=DATE:20260910
DTEND;VALUE=DATE:20260911
DTSTAMP:20260422T050659
CREATED:20240201T023125Z
LAST-MODIFIED:20251125T062025Z
UID:2398-1788998400-1789084799@tesstraining.com
SUMMARY:หลักสูตร การวิเคราะห์รากเหง้าของปัญหา (ROOT CAUSE FAILURE ANALYSIS)
DESCRIPTION:หลักสูตร การวิเคราะห์รากเหง้าของปัญหา (Root Cause Failure Analysis) 
URL:https://tesstraining.com/calendartess/%e0%b8%ab%e0%b8%a5%e0%b8%b1%e0%b8%81%e0%b8%aa%e0%b8%b9%e0%b8%95%e0%b8%a3-%e0%b8%81%e0%b8%b2%e0%b8%a3%e0%b8%a7%e0%b8%b4%e0%b9%80%e0%b8%84%e0%b8%a3%e0%b8%b2%e0%b8%b0%e0%b8%ab%e0%b9%8c%e0%b8%a3%e0%b8%b2/
LOCATION:Online Zoom
CATEGORIES:Public ด้านอุตสาหกรรม โรงงาน,อาจารย์อนันต์ ดีโรจนวงศ์
ATTACH;FMTTYPE=image/jpeg:https://tesstraining.com/wp-content/uploads/2024/02/การวิเคราะห์รากเหง้าของปัญหา-ROOT-CAUSE-FAILURE-ANALYSIS.jpg
END:VEVENT
END:VCALENDAR