BEGIN:VCALENDAR
VERSION:2.0
PRODID:-//Tess Training | สถาบันฝึกอบรมการขาย หลักสูตรการบริการ และสัมมนาครบวงจร - ECPv6.15.17.1//NONSGML v1.0//EN
CALSCALE:GREGORIAN
METHOD:PUBLISH
X-WR-CALNAME:Tess Training | สถาบันฝึกอบรมการขาย หลักสูตรการบริการ และสัมมนาครบวงจร
X-ORIGINAL-URL:https://tesstraining.com
X-WR-CALDESC:Events for Tess Training | สถาบันฝึกอบรมการขาย หลักสูตรการบริการ และสัมมนาครบวงจร
REFRESH-INTERVAL;VALUE=DURATION:PT1H
X-Robots-Tag:noindex
X-PUBLISHED-TTL:PT1H
BEGIN:VTIMEZONE
TZID:Asia/Krasnoyarsk
BEGIN:STANDARD
TZOFFSETFROM:+0700
TZOFFSETTO:+0700
TZNAME:+07
DTSTART:20250101T000000
END:STANDARD
END:VTIMEZONE
BEGIN:VEVENT
DTSTART;VALUE=DATE:20260409
DTEND;VALUE=DATE:20260410
DTSTAMP:20260422T050728
CREATED:20230324T031631Z
LAST-MODIFIED:20260322T135518Z
UID:1557-1775692800-1775779199@tesstraining.com
SUMMARY:หลักสูตร กระบวนการส่งออกและนำเข้าพร้อมด้วยพิธีการศุลกากร ทั่งระบบ 1 วัน
DESCRIPTION:หลักสูตร กระบวนการส่งออกและนำเข้าพร้อมด้วยพิธีการศุลกากร ทั่งระบบ 1 วัน\nคลิ๊กชื่อหลักสูตร เพื่อดูรายละเอียดเนื้อหา  \n  \nการส่งออกและนำเข้าสินค้าในปัจจุบันมีการขยายตัวเพิ่มมากขึ้นตามการเจริญเติบโตทาง เศรษฐกิจของประเทศและของโลก ประกอบกับการค้าวิถีใหม่ NEW NORMAL  เป็นการค้าในระบบอิเล็กทรอนิกส์  ที่มีความสะดวก รวดเร็ว ผู้ปฏิบัติต้องมีความพร้อมในการประกอบธุรกิจอย่างชาญฉลาด ทันสมัย ตามการค้าของโลกที่เปลี่ยนไปเร็วมาก \nสิ่งที่ผู้ประกอบการธุรกิจนำเข้า-ส่งออก\, นักธุรกิจ\, ผู้ผลิต\, ผู้จัดการฝ่ายจัดซื้อต่างประเทศ\, นายหน้าหรือตัวแทนการค้า\, รวมทั้งพนักงานที่ปฏิบัติหน้าที่ที่เกี่ยวข้องกับกิจกรรมดังกล่าวและผู้สนใจทั่วไป จำเป็นต้องศึกษาเรียนรู้ในเรื่องของการค้ายุคใหม่ที่นำเอาระบบ Logistics & Supply Chain มาบริหารจัดการให้ได้รับประโยชน์สูงสุดเพื่อให้การประกอบธุรกิจเป็นไปอย่างสะดวกและได้รับผลสำเร็จคุ้ม ค่ากับการลงทุน
URL:https://tesstraining.com/calendartess/%e0%b8%ab%e0%b8%a5%e0%b8%b1%e0%b8%81%e0%b8%aa%e0%b8%b9%e0%b8%95%e0%b8%a3-%e0%b8%81%e0%b8%a3%e0%b8%b0%e0%b8%9a%e0%b8%a7%e0%b8%99%e0%b8%81%e0%b8%b2%e0%b8%a3%e0%b8%aa%e0%b9%88%e0%b8%87%e0%b8%ad%e0%b8%ad/
LOCATION:Onsite โรงแรมโนโวเทล / Online Zoom
CATEGORIES:Public ด้านการขาย การตลาด การบริการ,อาจารย์วิรัตน์ บาหยัน
ATTACH;FMTTYPE=image/jpeg:https://tesstraining.com/wp-content/uploads/2023/03/นำเข้าส่งออก-copy.jpg
END:VEVENT
END:VCALENDAR