BEGIN:VCALENDAR
VERSION:2.0
PRODID:-//Tess Training | สถาบันฝึกอบรมการขาย หลักสูตรการบริการ และสัมมนาครบวงจร - ECPv6.15.17.1//NONSGML v1.0//EN
CALSCALE:GREGORIAN
METHOD:PUBLISH
X-WR-CALNAME:Tess Training | สถาบันฝึกอบรมการขาย หลักสูตรการบริการ และสัมมนาครบวงจร
X-ORIGINAL-URL:https://tesstraining.com
X-WR-CALDESC:Events for Tess Training | สถาบันฝึกอบรมการขาย หลักสูตรการบริการ และสัมมนาครบวงจร
REFRESH-INTERVAL;VALUE=DURATION:PT1H
X-Robots-Tag:noindex
X-PUBLISHED-TTL:PT1H
BEGIN:VTIMEZONE
TZID:Asia/Krasnoyarsk
BEGIN:STANDARD
TZOFFSETFROM:+0700
TZOFFSETTO:+0700
TZNAME:+07
DTSTART:20230101T000000
END:STANDARD
END:VTIMEZONE
BEGIN:VEVENT
DTSTART;TZID=Asia/Krasnoyarsk:20260423T090000
DTEND;TZID=Asia/Krasnoyarsk:20260423T160000
DTSTAMP:20260422T050729
CREATED:20230327T143317Z
LAST-MODIFIED:20251125T062551Z
UID:1626-1776934800-1776960000@tesstraining.com
SUMMARY:หลักสูตร เทคนิคการนำเสนอ STORY TELLING แบบที่ปรึกษาการขาย
DESCRIPTION:หลักสูตร เทคนิคการนำเสนอ STORY TELLING แบบที่ปรึกษาการขาย\nคลิ๊กชื่อหลักสูตร เพื่อดูรายละเอียดเนื้อหา
URL:https://tesstraining.com/calendartess/%e0%b8%ab%e0%b8%a5%e0%b8%b1%e0%b8%81%e0%b8%aa%e0%b8%b9%e0%b8%95%e0%b8%a3-%e0%b9%80%e0%b8%97%e0%b8%84%e0%b8%99%e0%b8%b4%e0%b8%84%e0%b8%81%e0%b8%b2%e0%b8%a3%e0%b8%99%e0%b8%b3%e0%b9%80%e0%b8%aa-2/
LOCATION:Onsite โรงแรมโนโวเทล / Online Zoom
CATEGORIES:Public ด้านการขาย การตลาด การบริการ,อาจารย์ประเสริฐ สุขไพบูลย์กุล
ATTACH;FMTTYPE=image/jpeg:https://tesstraining.com/wp-content/uploads/2023/03/547.jpg
END:VEVENT
BEGIN:VEVENT
DTSTART;VALUE=DATE:20260423
DTEND;VALUE=DATE:20260425
DTSTAMP:20260422T050729
CREATED:20230323T170539Z
LAST-MODIFIED:20260204T082027Z
UID:1473-1776902400-1777075199@tesstraining.com
SUMMARY:หลักสูตร กลยุทธ์ในการทำธุรกรรมระหว่างประเทศนำเข้าส่งออก และกฎเกณฑ์ ข้อตกลงทางภาษีศุลกากรที่ควรเข้าใจ อบรม 2 วัน
DESCRIPTION:หลักสูตร กลยุทธ์ในการทำธุรกรรมระหว่างประเทศนำเข้าส่งออก และกฎเกณฑ์ ข้อตกลงทางภาษีศุลกากรที่ควรเข้าใจ อบรม 2 วัน\nคลิ๊กชื่อหลักสูตร เพื่อดูรายละเอียดเนื้อหา
URL:https://tesstraining.com/calendartess/%e0%b8%ab%e0%b8%a5%e0%b8%b1%e0%b8%81%e0%b8%aa%e0%b8%b9%e0%b8%95%e0%b8%a3-%e0%b8%81%e0%b8%a5%e0%b8%a2%e0%b8%b8%e0%b8%97%e0%b8%98%e0%b9%8c%e0%b9%83%e0%b8%99%e0%b8%81%e0%b8%b2%e0%b8%a3%e0%b8%97%e0%b8%b3/
LOCATION:โรงแรมแรมแบรนดท์ สุขุมวิท 18-20\, โรงแรมแรมแบรนดท์ สุขุมวิท 18 ถนนสุขุมวิท คลองเตย กรุงเทพฯ 10110\, Bangkok\, 10110\, Thailand
CATEGORIES:Public ด้านการขาย การตลาด การบริการ,อาจารย์มนตรี ยุวชาติ,อาจารย์วิรัตน์ บาหยัน
ATTACH;FMTTYPE=image/jpeg:https://tesstraining.com/wp-content/uploads/2023/03/605.jpg
END:VEVENT
BEGIN:VEVENT
DTSTART;VALUE=DATE:20260423
DTEND;VALUE=DATE:20260424
DTSTAMP:20260422T050729
CREATED:20230804T093413Z
LAST-MODIFIED:20251125T061048Z
UID:1991-1776902400-1776988799@tesstraining.com
SUMMARY:หลักสูตร การเพิ่มประสิทธิภาพงานด้วยเทคนิค HORENSO
DESCRIPTION:หลักสูตร การเพิ่มประสิทธิภาพงานด้วยเทคนิค HORENSO\nคลิ๊กชื่อหลักสูตร เพื่อดูรายละเอียดเนื้อหา
URL:https://tesstraining.com/calendartess/%e0%b8%ab%e0%b8%a5%e0%b8%b1%e0%b8%81%e0%b8%aa%e0%b8%b9%e0%b8%95%e0%b8%a3-%e0%b8%81%e0%b8%b2%e0%b8%a3%e0%b9%80%e0%b8%9e%e0%b8%b4%e0%b9%88%e0%b8%a1%e0%b8%9b%e0%b8%a3%e0%b8%b0%e0%b8%aa%e0%b8%b4%e0%b8%97/
LOCATION:Online Zoom
CATEGORIES:Public ด้านอุตสาหกรรม โรงงาน
ATTACH;FMTTYPE=image/jpeg:https://tesstraining.com/wp-content/uploads/2023/08/Horenso-copy.jpg
END:VEVENT
BEGIN:VEVENT
DTSTART;TZID=Asia/Krasnoyarsk:20260422T090000
DTEND;TZID=Asia/Krasnoyarsk:20260422T160000
DTSTAMP:20260422T050729
CREATED:20230323T141356Z
LAST-MODIFIED:20260322T140355Z
UID:1351-1776848400-1776873600@tesstraining.com
SUMMARY:หลักสูตร ข้อตกลงการส่งมอบสินค้าระหว่างประเทศ Incoterms ®2020
DESCRIPTION:หลักสูตร ข้อตกลงการส่งมอบสินค้าระหว่างประเทศ Incoterms ®2020\nคลิ๊กชื่อหลักสูตร เพื่อดูรายละเอียดเนื้อหา
URL:https://tesstraining.com/calendartess/%e0%b8%ab%e0%b8%a5%e0%b8%b1%e0%b8%81%e0%b8%aa%e0%b8%b9%e0%b8%95%e0%b8%a3-%e0%b8%82%e0%b9%89%e0%b8%ad%e0%b8%95%e0%b8%81%e0%b8%a5%e0%b8%87%e0%b8%81%e0%b8%b2%e0%b8%a3%e0%b8%aa%e0%b9%88%e0%b8%87%e0%b8%a1/
LOCATION:Online Zoom
CATEGORIES:Public ด้านการขาย การตลาด การบริการ,อาจารย์มนตรี ยุวชาติ
ATTACH;FMTTYPE=image/jpeg:https://tesstraining.com/wp-content/uploads/2023/03/Incoterms2010-01-copy.jpg
END:VEVENT
BEGIN:VEVENT
DTSTART;VALUE=DATE:20260421
DTEND;VALUE=DATE:20260422
DTSTAMP:20260422T050729
CREATED:20250530T021532Z
LAST-MODIFIED:20260204T080841Z
UID:3121-1776729600-1776815999@tesstraining.com
SUMMARY:หลักสูตร การเตรียมความพร้อมและแนวปฏิบัติของ DPO (DPO Preparation)
DESCRIPTION:หลักสูตร การเตรียมความพร้อมและแนวปฏิบัติของ DPO (DPO Preparation)\nหลักสูตร การเตรียมความพร้อมและแนวปฏิบัติของ DPO (DPO Preparation)
URL:https://tesstraining.com/calendartess/%e0%b8%ab%e0%b8%a5%e0%b8%b1%e0%b8%81%e0%b8%aa%e0%b8%b9%e0%b8%95%e0%b8%a3-%e0%b8%81%e0%b8%b2%e0%b8%a3%e0%b9%80%e0%b8%95%e0%b8%a3%e0%b8%b5%e0%b8%a2%e0%b8%a1%e0%b8%84%e0%b8%a7%e0%b8%b2%e0%b8%a1-2/
CATEGORIES:Public ด้านการบริหาร ผู้นำ HR
ATTACH;FMTTYPE=image/jpeg:https://tesstraining.com/wp-content/uploads/2025/05/pdpa-การเตรียมความพร้อมและแนวปฏิบัติของ-DPO-DPO-Preparation-copy.jpg
END:VEVENT
BEGIN:VEVENT
DTSTART;TZID=Asia/Krasnoyarsk:20260420T090000
DTEND;TZID=Asia/Krasnoyarsk:20260420T160000
DTSTAMP:20260422T050729
CREATED:20230323T154613Z
LAST-MODIFIED:20251125T062230Z
UID:1394-1776675600-1776700800@tesstraining.com
SUMMARY:หลักสูตร เทคนิคการบันทึกและหลักการเขียนรายงานการประชุม
DESCRIPTION:Public Training เปิดรับสมัคร\nเทคนิคการบันทึกและหลักการเขียนรายงานการประชุม ประยุกต์ใช้ในการปฏิบัติงานจริง\n 
URL:https://tesstraining.com/calendartess/%e0%b8%ab%e0%b8%a5%e0%b8%b1%e0%b8%81%e0%b8%aa%e0%b8%b9%e0%b8%95%e0%b8%a3-%e0%b9%80%e0%b8%97%e0%b8%84%e0%b8%99%e0%b8%b4%e0%b8%84%e0%b8%81%e0%b8%b2%e0%b8%a3%e0%b8%9a%e0%b8%b1%e0%b8%99%e0%b8%97%e0%b8%b6/
LOCATION:โรงแรมโนโวเทล สุขุมวิท 20
CATEGORIES:Public ด้านการบริหาร ผู้นำ HR,Public ด้านธุรกิจ ภาษา คอมพิวเตอร์,อาจารย์ประภาภรณ์ พนัสพรประสิทธิ์
ATTACH;FMTTYPE=image/jpeg:https://tesstraining.com/wp-content/uploads/2023/03/เทคนิคการบันทึกและหลักการเขียนรายงาน-01.jpg
END:VEVENT
BEGIN:VEVENT
DTSTART;VALUE=DATE:20260420
DTEND;VALUE=DATE:20260421
DTSTAMP:20260422T050729
CREATED:20230802T043319Z
LAST-MODIFIED:20251125T062735Z
UID:1978-1776643200-1776729599@tesstraining.com
SUMMARY:หลักสูตร การจัดการขนส่งอย่างมีประสิทธิภาพ
DESCRIPTION:หลักสูตร การจัดการขนส่งอย่างมีประสิทธิภาพ\nคลิ๊กชื่อหลักสูตร เพื่อดูรายละเอียดเนื้อหา
URL:https://tesstraining.com/calendartess/%e0%b8%ab%e0%b8%a5%e0%b8%b1%e0%b8%81%e0%b8%aa%e0%b8%b9%e0%b8%95%e0%b8%a3-%e0%b8%81%e0%b8%b2%e0%b8%a3%e0%b8%88%e0%b8%b1%e0%b8%94%e0%b8%81%e0%b8%b2%e0%b8%a3%e0%b8%82%e0%b8%99%e0%b8%aa%e0%b9%88%e0%b8%87/
LOCATION:Online Zoom
CATEGORIES:Public ด้านอุตสาหกรรม โรงงาน,อาจารย์ณรงค์ ตู้ทอง
ATTACH;FMTTYPE=image/jpeg:https://tesstraining.com/wp-content/uploads/2023/03/101.jpg
END:VEVENT
BEGIN:VEVENT
DTSTART;TZID=Asia/Krasnoyarsk:20260410T090000
DTEND;TZID=Asia/Krasnoyarsk:20260410T160000
DTSTAMP:20260422T050729
CREATED:20230324T000011Z
LAST-MODIFIED:20251125T060629Z
UID:1480-1775811600-1775836800@tesstraining.com
SUMMARY:หลักสูตร การลดความสูญเสียทั้ง 7 ประการ เพื่อลดต้นทุนการผลิต อ.อนันต์
DESCRIPTION:หลักสูตร การลดความสูญเสียทั้ง 7 ประการ เพื่อลดต้นทุนการผลิต 7 WASTE FOR COST REDUCTION\nคลิ๊กชื่อหลักสูตร เพื่อดูรายละเอียดเนื้อหา
URL:https://tesstraining.com/calendartess/%e0%b8%ab%e0%b8%a5%e0%b8%b1%e0%b8%81%e0%b8%aa%e0%b8%b9%e0%b8%95%e0%b8%a3-%e0%b8%81%e0%b8%b2%e0%b8%a3%e0%b8%a5%e0%b8%94%e0%b8%84%e0%b8%a7%e0%b8%b2%e0%b8%a1%e0%b8%aa%e0%b8%b9%e0%b8%8d%e0%b9%80%e0%b8%aa/
LOCATION:Online Zoom
CATEGORIES:Public ด้านอุตสาหกรรม โรงงาน,อาจารย์อนันต์ ดีโรจนวงศ์
ATTACH;FMTTYPE=image/jpeg:https://tesstraining.com/wp-content/uploads/2023/03/การลดความสูญเสียทั้ง-7-ประการ-copy.jpg
END:VEVENT
BEGIN:VEVENT
DTSTART;VALUE=DATE:20260408
DTEND;VALUE=DATE:20260409
DTSTAMP:20260422T050729
CREATED:20240201T034410Z
LAST-MODIFIED:20260322T141530Z
UID:2429-1775606400-1775692799@tesstraining.com
SUMMARY:หลักสูตร เลขานุการยุคใหม่กับเจ้านาย 4 GEN
DESCRIPTION:หลักสูตร เลขานุการยุคใหม่\nกับเจ้านาย 4 GEN\n \n 
URL:https://tesstraining.com/calendartess/%e0%b8%ab%e0%b8%a5%e0%b8%b1%e0%b8%81%e0%b8%aa%e0%b8%b9%e0%b8%95%e0%b8%a3-%e0%b9%80%e0%b8%a5%e0%b8%82%e0%b8%b2%e0%b8%99%e0%b8%b8%e0%b8%81%e0%b8%b2%e0%b8%a3%e0%b8%a2%e0%b8%b8%e0%b8%84%e0%b9%83%e0%b8%ab/
LOCATION:Onsite โรงแรมโนโวเทล / Online Zoom
CATEGORIES:Public ด้านการบริหาร ผู้นำ HR,ดร.พิพัฒน์พล เพ็ชรเที่ยง
ATTACH;FMTTYPE=image/jpeg:https://tesstraining.com/wp-content/uploads/2024/02/เลขานุการยุคใหม่กับเจ้านาย-4-GEN.jpg
END:VEVENT
BEGIN:VEVENT
DTSTART;VALUE=DATE:20260408
DTEND;VALUE=DATE:20260409
DTSTAMP:20260422T050729
CREATED:20240201T033452Z
LAST-MODIFIED:20260322T135942Z
UID:2424-1775606400-1775692799@tesstraining.com
SUMMARY:หลักสูตร การประเมินผล ติดตามผล และการวิเคราะห์ความคุ้มค่าของการฝึกอบรม (TRAINING EVALUATION FOLLOW-UP AND ROI)
DESCRIPTION:หลักสูตร การประเมินผล ติดตามผล และการวิเคราะห์ความคุ้มค่าของการฝึกอบรม (TRAINING EVALUATION FOLLOW-UP AND ROI)
URL:https://tesstraining.com/calendartess/%e0%b8%ab%e0%b8%a5%e0%b8%b1%e0%b8%81%e0%b8%aa%e0%b8%b9%e0%b8%95%e0%b8%a3-%e0%b8%81%e0%b8%b2%e0%b8%a3%e0%b8%9b%e0%b8%a3%e0%b8%b0%e0%b9%80%e0%b8%a1%e0%b8%b4%e0%b8%99%e0%b8%9c%e0%b8%a5-%e0%b8%95%e0%b8%b4/
LOCATION:โรงแรมแรมแบรนดท์ สุขุมวิท 18-20\, โรงแรมแรมแบรนดท์ สุขุมวิท 18 ถนนสุขุมวิท คลองเตย กรุงเทพฯ 10110\, Bangkok\, 10110\, Thailand
CATEGORIES:Public ด้านการบริหาร ผู้นำ HR,ดร.พิพัฒน์พล เพ็ชรเที่ยง
ATTACH;FMTTYPE=image/jpeg:https://tesstraining.com/wp-content/uploads/2024/02/Pic-ความคุ้มค่าของการฝึกอบรม-copy.jpg
END:VEVENT
BEGIN:VEVENT
DTSTART;VALUE=DATE:20260407
DTEND;VALUE=DATE:20260408
DTSTAMP:20260422T050729
CREATED:20230802T040512Z
LAST-MODIFIED:20260322T140931Z
UID:1964-1775520000-1775606399@tesstraining.com
SUMMARY:หลักสูตร การจัดการคลังสินค้าและควบคุมสินค้าคงคลังอย่างมีประสิทธิภาพ
DESCRIPTION:หลักสูตร การจัดการคลังสินค้าและควบคุมสินค้าคงคลังอย่างมีประสิทธิภาพ \nคลิ๊กชื่อหลักสูตร เพื่อดูรายละเอียดเนื้อหา
URL:https://tesstraining.com/calendartess/%e0%b8%ab%e0%b8%a5%e0%b8%b1%e0%b8%81%e0%b8%aa%e0%b8%b9%e0%b8%95%e0%b8%a3-%e0%b8%81%e0%b8%b2%e0%b8%a3%e0%b8%88%e0%b8%b1%e0%b8%94%e0%b8%81%e0%b8%b2%e0%b8%a3%e0%b8%84%e0%b8%a5%e0%b8%b1%e0%b8%87%e0%b8%aa/
LOCATION:โรงแรมแรมแบรนดท์ สุขุมวิท 18-20\, โรงแรมแรมแบรนดท์ สุขุมวิท 18 ถนนสุขุมวิท คลองเตย กรุงเทพฯ 10110\, Bangkok\, 10110\, Thailand
CATEGORIES:Public ด้านอุตสาหกรรม โรงงาน,อาจารย์อนันต์ ดีโรจนวงศ์
ATTACH;FMTTYPE=image/jpeg:https://tesstraining.com/wp-content/uploads/2023/08/Pic-เทคนิคการจัดการสินค้าคงคลัง-copy.jpg
END:VEVENT
BEGIN:VEVENT
DTSTART;TZID=Asia/Krasnoyarsk:20260403T090000
DTEND;TZID=Asia/Krasnoyarsk:20260403T160000
DTSTAMP:20260422T050729
CREATED:20230323T083329Z
LAST-MODIFIED:20260322T140540Z
UID:1203-1775206800-1775232000@tesstraining.com
SUMMARY:หลักสูตร เทคนิคการเจรจาต่อรองและการโน้มน้าวเพื่อปิดการขาย
DESCRIPTION:หลักสูตร เทคนิคการเจรจาต่อรองและการโน้มน้าวเพื่อปิดการขาย\n \nคลิ๊กชื่อหลักสูตร เพื่อดูรายละเอียดเนื้อหา \n 
URL:https://tesstraining.com/calendartess/%e0%b8%ab%e0%b8%a5%e0%b8%b1%e0%b8%81%e0%b8%aa%e0%b8%b9%e0%b8%95%e0%b8%a3-%e0%b9%80%e0%b8%97%e0%b8%84%e0%b8%99%e0%b8%b4%e0%b8%84%e0%b8%81%e0%b8%b2%e0%b8%a3%e0%b9%80%e0%b8%88%e0%b8%a3%e0%b8%88%e0%b8%b2/
LOCATION:Onsite โรงแรมโนโวเทล / Online Zoom
CATEGORIES:Public ด้านการขาย การตลาด การบริการ,อาจารย์ประเสริฐ สุขไพบูลย์กุล
ATTACH;FMTTYPE=image/jpeg:https://tesstraining.com/wp-content/uploads/2023/03/Pic-เจรจาต่อรอง-1-1.jpg
END:VEVENT
BEGIN:VEVENT
DTSTART;VALUE=DATE:20260331
DTEND;VALUE=DATE:20260401
DTSTAMP:20260422T050729
CREATED:20250530T022629Z
LAST-MODIFIED:20260322T135820Z
UID:3126-1774915200-1775001599@tesstraining.com
SUMMARY:หลักสูตร ข้อควรรู้เกี่ยวกับการส่งเสริมการลงทุน BOI
DESCRIPTION:หลักสูตร ข้อควรรู้เกี่ยวกับการส่งเสริมการลงทุน BOI\nหลักสูตร ข้อควรรู้เกี่ยวกับการส่งเสริมการลงทุน BOI
URL:https://tesstraining.com/calendartess/%e0%b8%ab%e0%b8%a5%e0%b8%b1%e0%b8%81%e0%b8%aa%e0%b8%b9%e0%b8%95%e0%b8%a3-%e0%b8%82%e0%b9%89%e0%b8%ad%e0%b8%84%e0%b8%a7%e0%b8%a3%e0%b8%a3%e0%b8%b9%e0%b9%89%e0%b9%80%e0%b8%81%e0%b8%b5%e0%b9%88%e0%b8%a2/
CATEGORIES:Public ด้านการขาย การตลาด การบริการ
ATTACH;FMTTYPE=image/jpeg:https://tesstraining.com/wp-content/uploads/2025/05/การส่งเสริมการลงทุน-BOI-copy.jpg
END:VEVENT
BEGIN:VEVENT
DTSTART;TZID=Asia/Krasnoyarsk:20260330T090000
DTEND;TZID=Asia/Krasnoyarsk:20260330T160000
DTSTAMP:20260422T050729
CREATED:20230323T153652Z
LAST-MODIFIED:20260204T081550Z
UID:1389-1774861200-1774886400@tesstraining.com
SUMMARY:หลักสูตร เทคนิคและการประยุกต์ใช้งาน EXCEL อย่างมืออาชีพ (PROFESSIONAL MICROSOFT EXCEL)
DESCRIPTION:หลักสูตร เทคนิคการใช้ MICROSOFT EXCEL อย่างมืออาชีพ\nคลิ๊กชื่อหลักสูตร เพื่อดูรายละเอียดเนื้อหา
URL:https://tesstraining.com/calendartess/%e0%b8%ab%e0%b8%a5%e0%b8%b1%e0%b8%81%e0%b8%aa%e0%b8%b9%e0%b8%95%e0%b8%a3-%e0%b9%80%e0%b8%97%e0%b8%84%e0%b8%99%e0%b8%b4%e0%b8%84%e0%b8%81%e0%b8%b2%e0%b8%a3%e0%b9%83%e0%b8%8a%e0%b9%89-microsoft-excel/
LOCATION:โรงแรมแรมแบรนดท์ สุขุมวิท 18-20\, โรงแรมแรมแบรนดท์ สุขุมวิท 18 ถนนสุขุมวิท คลองเตย กรุงเทพฯ 10110\, Bangkok\, 10110\, Thailand
CATEGORIES:Public ด้านธุรกิจ ภาษา คอมพิวเตอร์,อาจารย์ทิพอาภา ลี้ประเสริฐ
ATTACH;FMTTYPE=image/jpeg:https://tesstraining.com/wp-content/uploads/2023/03/Pic-excel2-copy.jpg
END:VEVENT
BEGIN:VEVENT
DTSTART;VALUE=DATE:20260330
DTEND;VALUE=DATE:20260331
DTSTAMP:20260422T050729
CREATED:20230323T170007Z
LAST-MODIFIED:20260322T141049Z
UID:1469-1774828800-1774915199@tesstraining.com
SUMMARY:หลักสูตร เทคนิคการขาย เพื่อการเป็นมืออาชีพขั้นเทพ 2026 อ.ประเสริฐ
DESCRIPTION:หลักสูตร เทคนิคการขาย เพื่อการเป็นมืออาชีพขั้นเทพ 2026 อ.ประเสริฐ\nคลิ๊กชื่อหลักสูตร เพื่อดูรายละเอียดเนื้อหา \n \n 
URL:https://tesstraining.com/calendartess/%e0%b8%ab%e0%b8%a5%e0%b8%b1%e0%b8%81%e0%b8%aa%e0%b8%b9%e0%b8%95%e0%b8%a3-%e0%b9%80%e0%b8%97%e0%b8%84%e0%b8%99%e0%b8%b4%e0%b8%84%e0%b8%81%e0%b8%b2%e0%b8%a3%e0%b8%82%e0%b8%b2%e0%b8%a2-%e0%b9%80%e0%b8%9e/
LOCATION:Onsite โรงแรมโนโวเทล / Online Zoom
CATEGORIES:Public ด้านการขาย การตลาด การบริการ,อาจารย์ประเสริฐ สุขไพบูลย์กุล
ATTACH;FMTTYPE=image/jpeg:https://tesstraining.com/wp-content/uploads/2023/03/ขั้นเทพ-2025-copy.jpg
END:VEVENT
BEGIN:VEVENT
DTSTART;TZID=Asia/Krasnoyarsk:20260327T090000
DTEND;TZID=Asia/Krasnoyarsk:20260327T160000
DTSTAMP:20260422T050729
CREATED:20230327T143954Z
LAST-MODIFIED:20251125T061952Z
UID:1631-1774602000-1774627200@tesstraining.com
SUMMARY:หลักสูตร 10 ทักษะหัวหน้างานมืออาชีพ 10 Tools Professional Supervisor
DESCRIPTION:หลักสูตร 10 ทักษะหัวหน้างานมืออาชีพ\nคลิ๊กชื่อหลักสูตร เพื่อดูรายละเอียดเนื้อหา \n 
URL:https://tesstraining.com/calendartess/%e0%b8%ab%e0%b8%a5%e0%b8%b1%e0%b8%81%e0%b8%aa%e0%b8%b9%e0%b8%95%e0%b8%a3-10-%e0%b8%97%e0%b8%b1%e0%b8%81%e0%b8%a9%e0%b8%b0%e0%b8%ab%e0%b8%b1%e0%b8%a7%e0%b8%ab%e0%b8%99%e0%b9%89%e0%b8%b2%e0%b8%87/
LOCATION:โรงแรมแรมแบรนดท์ สุขุมวิท 18-20\, โรงแรมแรมแบรนดท์ สุขุมวิท 18 ถนนสุขุมวิท คลองเตย กรุงเทพฯ 10110\, Bangkok\, 10110\, Thailand
CATEGORIES:Public ด้านการบริหาร ผู้นำ HR,อาจารย์กัณฑ์เอนก เอี่ยมปัญญาสกุล
ATTACH;FMTTYPE=image/jpeg:https://tesstraining.com/wp-content/uploads/2023/03/588.jpg
END:VEVENT
BEGIN:VEVENT
DTSTART;TZID=Asia/Krasnoyarsk:20260327T090000
DTEND;TZID=Asia/Krasnoyarsk:20260327T160000
DTSTAMP:20260422T050729
CREATED:20230324T010659Z
LAST-MODIFIED:20260322T140240Z
UID:1513-1774602000-1774627200@tesstraining.com
SUMMARY:หลักสูตร LEADERSHIP ผู้นำทีมประสิทธิภาพ
DESCRIPTION:หลักสูตร LEADERSHIP ผู้นำทีมประสิทธิภาพ\nคลิ๊กชื่อหลักสูตร เพื่อดูรายละเอียดเนื้อหา
URL:https://tesstraining.com/calendartess/%e0%b8%ab%e0%b8%a5%e0%b8%b1%e0%b8%81%e0%b8%aa%e0%b8%b9%e0%b8%95%e0%b8%a3-leadership-%e0%b8%9c%e0%b8%b9%e0%b9%89%e0%b8%99%e0%b8%b3%e0%b8%97%e0%b8%b5%e0%b8%a1%e0%b8%9b%e0%b8%a3%e0%b8%b0%e0%b8%aa/
LOCATION:โรงแรมแรมแบรนดท์ สุขุมวิท 18-20\, โรงแรมแรมแบรนดท์ สุขุมวิท 18 ถนนสุขุมวิท คลองเตย กรุงเทพฯ 10110\, Bangkok\, 10110\, Thailand
CATEGORIES:Public ด้านการบริหาร ผู้นำ HR,อาจารย์ประกาศิต สพฤกษ์ศรี
ATTACH;FMTTYPE=image/jpeg:https://tesstraining.com/wp-content/uploads/2023/03/leadership-copy.jpg
END:VEVENT
BEGIN:VEVENT
DTSTART;TZID=Asia/Krasnoyarsk:20260327T090000
DTEND;TZID=Asia/Krasnoyarsk:20260327T160000
DTSTAMP:20260422T050729
CREATED:20230324T001650Z
LAST-MODIFIED:20260322T140744Z
UID:1489-1774602000-1774627200@tesstraining.com
SUMMARY:หลักสูตร 9 ทักษะความสำเร็จเพื่อยกระดับการเป็นหัวหน้างานขั้นเทพ อ.สุกิจ
DESCRIPTION:หลักสูตร 9 ทักษะความสำเร็จเพื่อยกระดับการเป็นหัวหน้างานขั้นเทพ อ.สุกิจ\nคลิ๊กชื่อหลักสูตร เพื่อดูรายละเอียดเนื้อหา \n 
URL:https://tesstraining.com/calendartess/%e0%b8%ab%e0%b8%a5%e0%b8%b1%e0%b8%81%e0%b8%aa%e0%b8%b9%e0%b8%95%e0%b8%a3-9-%e0%b8%97%e0%b8%b1%e0%b8%81%e0%b8%a9%e0%b8%b0%e0%b8%84%e0%b8%a7%e0%b8%b2%e0%b8%a1%e0%b8%aa%e0%b8%b3%e0%b9%80%e0%b8%a3/
LOCATION:Onsite โรงแรมโนโวเทล / Online Zoom
CATEGORIES:Public ด้านการบริหาร ผู้นำ HR,อาจารย์สุกิจ ตรียุทธวัฒนา
ATTACH;FMTTYPE=image/jpeg:https://tesstraining.com/wp-content/uploads/2023/03/580.jpg
END:VEVENT
BEGIN:VEVENT
DTSTART;TZID=Asia/Krasnoyarsk:20260327T090000
DTEND;TZID=Asia/Krasnoyarsk:20260327T160000
DTSTAMP:20260422T050729
CREATED:20230323T133651Z
LAST-MODIFIED:20260204T082046Z
UID:1338-1774602000-1774627200@tesstraining.com
SUMMARY:หลักสูตร เทคนิคการบริหารเวลาเเละการจัดลำดับความสำคัญของงานอย่างมีประสิทธิภาพ
DESCRIPTION:หลักสูตร เทคนิคการบริหารเวลาเเละการจัดลำดับความสำคัญของงานอย่างมีประสิทธิภาพ\nคลิ๊กชื่อหลักสูตร เพื่อดูรายละเอียดเนื้อหา \n 
URL:https://tesstraining.com/calendartess/%e0%b8%ab%e0%b8%a5%e0%b8%b1%e0%b8%81%e0%b8%aa%e0%b8%b9%e0%b8%95%e0%b8%a3-%e0%b9%80%e0%b8%97%e0%b8%84%e0%b8%99%e0%b8%b4%e0%b8%84%e0%b8%81%e0%b8%b2%e0%b8%a3%e0%b8%9a%e0%b8%a3%e0%b8%b4%e0%b8%ab%e0%b8%b2/
LOCATION:Online Zoom
CATEGORIES:Public ด้านการบริหาร ผู้นำ HR,อาจารย์ประกาศิต สพฤกษ์ศรี
ATTACH;FMTTYPE=image/jpeg:https://tesstraining.com/wp-content/uploads/2023/03/การบริหารเวลาและจัดลำดับความสำคัญของงาน-.jpg
END:VEVENT
BEGIN:VEVENT
DTSTART;VALUE=DATE:20260327
DTEND;VALUE=DATE:20260328
DTSTAMP:20260422T050729
CREATED:20240118T123913Z
LAST-MODIFIED:20260204T080939Z
UID:2158-1774569600-1774655999@tesstraining.com
SUMMARY:(Inhouse) หลักสูตร DIGITAL MARKETING ขายออนไลน์ยุคใหม่เพิ่มยอดขายทุกมิติ
DESCRIPTION:หลักสูตร Digital Marketing\nขายออนไลน์ยุคใหม่เพิ่มยอดขายทุกมิติ\nInhouse Training\nหลักสูตรลิขสิทธิ์ เฉพาะบริษัท เทสส์ เทรนนิ่ง จำกัด เท่านั้น ห้ามคัดลอกเลียนแบบ \n \n 
URL:https://tesstraining.com/calendartess/%e0%b8%ab%e0%b8%a5%e0%b8%b1%e0%b8%81%e0%b8%aa%e0%b8%b9%e0%b8%95%e0%b8%a3-digital-marketing-%e0%b8%82%e0%b8%b2%e0%b8%a2%e0%b8%ad%e0%b8%ad%e0%b8%99%e0%b9%84%e0%b8%a5%e0%b8%99%e0%b9%8c%e0%b8%a2%e0%b8%b8/
LOCATION:โรงแรมโนโวเทล สุขุมวิท 20
CATEGORIES:Public ด้านการขาย การตลาด การบริการ,Public ด้านธุรกิจ ภาษา คอมพิวเตอร์,อาจารย์ประเสริฐ สุขไพบูลย์กุล
ATTACH;FMTTYPE=image/jpeg:https://tesstraining.com/wp-content/uploads/2024/01/หลักสูตร-Digital-marketing-1-1.jpg
END:VEVENT
BEGIN:VEVENT
DTSTART;VALUE=DATE:20260327
DTEND;VALUE=DATE:20260328
DTSTAMP:20260422T050729
CREATED:20231224T070617Z
LAST-MODIFIED:20260322T140143Z
UID:2051-1774569600-1774655999@tesstraining.com
SUMMARY:หลักสูตร พัฒนาการทำงานอย่างมีประสิทธิภาพด้วย KAIZEN
DESCRIPTION:หลักสูตร พัฒนาการทำงานอย่างมีประสิทธิภาพด้วย KAIZEN
URL:https://tesstraining.com/calendartess/%e0%b8%ab%e0%b8%a5%e0%b8%b1%e0%b8%81%e0%b8%aa%e0%b8%b9%e0%b8%95%e0%b8%a3-%e0%b8%9e%e0%b8%b1%e0%b8%92%e0%b8%99%e0%b8%b2%e0%b8%81%e0%b8%b2%e0%b8%a3%e0%b8%97%e0%b8%b3%e0%b8%87%e0%b8%b2%e0%b8%99%e0%b8%ad/
LOCATION:Onsite โรงแรมโนโวเทล / Online Zoom
CATEGORIES:Public ด้านการบริหาร ผู้นำ HR,อาจารย์ประเสริฐ สุขไพบูลย์กุล
ATTACH;FMTTYPE=image/jpeg:https://tesstraining.com/wp-content/uploads/2023/12/Kaizen.jpg
END:VEVENT
BEGIN:VEVENT
DTSTART;TZID=Asia/Krasnoyarsk:20260326T090000
DTEND;TZID=Asia/Krasnoyarsk:20260326T160000
DTSTAMP:20260422T050729
CREATED:20230703T113129Z
LAST-MODIFIED:20251125T060143Z
UID:1951-1774515600-1774540800@tesstraining.com
SUMMARY:เลขานุการยุคใหม่กับเจ้านาย 4 GEN
DESCRIPTION:หลักสูตร เลขานุการยุคใหม่กับเจ้านาย 4 GEN\n\n\n\n\n\n  
URL:https://tesstraining.com/calendartess/%e0%b9%80%e0%b8%a5%e0%b8%82%e0%b8%b2%e0%b8%99%e0%b8%b8%e0%b8%81%e0%b8%b2%e0%b8%a3%e0%b9%83%e0%b8%99%e0%b8%90%e0%b8%b2%e0%b8%99%e0%b8%b0%e0%b8%9c%e0%b8%b9%e0%b9%89%e0%b8%8a%e0%b9%88%e0%b8%a7%e0%b8%a2/
LOCATION:Onsite โรงแรมโนโวเทล / Online Zoom
CATEGORIES:Public ด้านธุรกิจ ภาษา คอมพิวเตอร์,ดร.พิพัฒน์พล เพ็ชรเที่ยง
ATTACH;FMTTYPE=image/jpeg:https://tesstraining.com/wp-content/uploads/2024/02/เลขานุการยุคใหม่กับเจ้านาย-4-GEN.jpg
END:VEVENT
BEGIN:VEVENT
DTSTART;TZID=Asia/Krasnoyarsk:20260326T090000
DTEND;TZID=Asia/Krasnoyarsk:20260326T160000
DTSTAMP:20260422T050729
CREATED:20230323T124423Z
LAST-MODIFIED:20260322T140649Z
UID:1312-1774515600-1774540800@tesstraining.com
SUMMARY:หลักสูตร การวางแผนและควบคุมการผลิตอย่างมีประสิทธิภาพ
DESCRIPTION:หลักสูตร การวางแผนและควบคุมการผลิตอย่างมีประสิทธิภาพ\nคลิ๊กชื่อหลักสูตร เพื่อดูรายละเอียดเนื้อหา
URL:https://tesstraining.com/calendartess/%e0%b8%ab%e0%b8%a5%e0%b8%b1%e0%b8%81%e0%b8%aa%e0%b8%b9%e0%b8%95%e0%b8%a3-%e0%b8%81%e0%b8%b2%e0%b8%a3%e0%b8%a7%e0%b8%b2%e0%b8%87%e0%b9%81%e0%b8%9c%e0%b8%99%e0%b9%81%e0%b8%a5%e0%b8%b0%e0%b8%84%e0%b8%a7/
LOCATION:โรงแรมแรมแบรนดท์ สุขุมวิท 18-20\, โรงแรมแรมแบรนดท์ สุขุมวิท 18 ถนนสุขุมวิท คลองเตย กรุงเทพฯ 10110\, Bangkok\, 10110\, Thailand
CATEGORIES:Public ด้านอุตสาหกรรม โรงงาน,อาจารย์อนันต์ ดีโรจนวงศ์
ATTACH;FMTTYPE=image/jpeg:https://tesstraining.com/wp-content/uploads/2023/03/Pic-การวางแผนและควบคุมการผลิตอย่างมีประสิทธิภาพ.jpg
END:VEVENT
BEGIN:VEVENT
DTSTART;VALUE=DATE:20260325
DTEND;VALUE=DATE:20260326
DTSTAMP:20260422T050729
CREATED:20250530T020223Z
LAST-MODIFIED:20260322T140218Z
UID:3112-1774396800-1774483199@tesstraining.com
SUMMARY:หลักสูตร Sales Coordinator พนักงานประสานงานขายผู้ช่วยเพิ่มยอดขาย
DESCRIPTION:หลักสูตร Sales Coordinator พนักงานประสานงานขายผู้ช่วยเพิ่มยอดขาย\nหลักสูตร Sales Coordinator พนักงานประสานงานขายผู้ช่วยเพิ่มยอดขาย
URL:https://tesstraining.com/calendartess/%e0%b8%ab%e0%b8%a5%e0%b8%b1%e0%b8%81%e0%b8%aa%e0%b8%b9%e0%b8%95%e0%b8%a3-sales-coordinator-%e0%b8%9e%e0%b8%99%e0%b8%b1%e0%b8%81%e0%b8%87%e0%b8%b2%e0%b8%99%e0%b8%9b%e0%b8%a3%e0%b8%b0%e0%b8%aa%e0%b8%b2/
CATEGORIES:Public ด้านการขาย การตลาด การบริการ
ATTACH;FMTTYPE=image/jpeg:https://tesstraining.com/wp-content/uploads/2025/05/SALES-COORDINATOR-copy.jpg
END:VEVENT
BEGIN:VEVENT
DTSTART;TZID=Asia/Krasnoyarsk:20260323T130000
DTEND;TZID=Asia/Krasnoyarsk:20260323T160000
DTSTAMP:20260422T050729
CREATED:20230802T035349Z
LAST-MODIFIED:20260322T135902Z
UID:1961-1774270800-1774281600@tesstraining.com
SUMMARY:หลักสูตร VISA WORK PERMIT ขั้นตอนการขอใบอนุญาตทำงาน (WORK PERMIT)
DESCRIPTION:หลักสูตร VISA WORK PERMIT ขั้นตอนการขอใบอนุญาตทำงาน (WORK PERMIT)\nคลิ๊กชื่อหลักสูตร เพื่อดูรายละเอียดเนื้อหา
URL:https://tesstraining.com/calendartess/%e0%b8%ab%e0%b8%a5%e0%b8%b1%e0%b8%81%e0%b8%aa%e0%b8%b9%e0%b8%95%e0%b8%a3-visa-work-permit-%e0%b8%82%e0%b8%b1%e0%b9%89%e0%b8%99%e0%b8%95%e0%b8%ad%e0%b8%99%e0%b8%81%e0%b8%b2%e0%b8%a3%e0%b8%82%e0%b8%ad/
LOCATION:Online Zoom
CATEGORIES:Public ด้านการบริหาร ผู้นำ HR
ATTACH;FMTTYPE=image/jpeg:https://tesstraining.com/wp-content/uploads/2023/08/visa-copy.jpg
END:VEVENT
BEGIN:VEVENT
DTSTART;TZID=Asia/Krasnoyarsk:20260320T090000
DTEND;TZID=Asia/Krasnoyarsk:20260320T160000
DTSTAMP:20260422T050729
CREATED:20230327T145809Z
LAST-MODIFIED:20251125T062136Z
UID:1641-1773997200-1774022400@tesstraining.com
SUMMARY:หลักสูตร ADOBE PHOTOSHOP CS6 FOR TECHNIQUES ฝึกปฎิบัติจริง
DESCRIPTION:หลักสูตร ADOBE PHOTOSHOP CS6 FOR TECHNIQUES ฝึกปฎิบัติจริง\nคลิ๊กชื่อหลักสูตร เพื่อดูรายละเอียดเนื้อหา
URL:https://tesstraining.com/calendartess/%e0%b8%ab%e0%b8%a5%e0%b8%b1%e0%b8%81%e0%b8%aa%e0%b8%b9%e0%b8%95%e0%b8%a3-adobe-photoshop-cs6-for-techniques-%e0%b8%9d%e0%b8%b6%e0%b8%81%e0%b8%9b%e0%b8%8e%e0%b8%b4%e0%b8%9a%e0%b8%b1%e0%b8%95%e0%b8%b4/
LOCATION:Onsite โรงแรมโนโวเทล / Online Zoom
CATEGORIES:Public ด้านธุรกิจ ภาษา คอมพิวเตอร์
ATTACH;FMTTYPE=image/jpeg:https://tesstraining.com/wp-content/uploads/2023/03/Pic-psd.jpg
END:VEVENT
BEGIN:VEVENT
DTSTART;VALUE=DATE:20251010
DTEND;VALUE=DATE:20251011
DTSTAMP:20260422T050729
CREATED:20230802T043717Z
LAST-MODIFIED:20250723T081639Z
UID:1984-1760054400-1760140799@tesstraining.com
SUMMARY:หลักสูตร กลยุทธ์การขับเคลื่อนองค์กรสู่โลจิสติกส์ 4.0 (SMART Logistic 4.0)
DESCRIPTION:หลักสูตร กลยุทธ์การขับเคลื่อนองค์กรสู่โลจิสติกส์ 4.0 (SMART Logistic 4.0)\nคลิ๊กชื่อหลักสูตร เพื่อดูรายละเอียดเนื้อหา
URL:https://tesstraining.com/calendartess/%e0%b8%ab%e0%b8%a5%e0%b8%b1%e0%b8%81%e0%b8%aa%e0%b8%b9%e0%b8%95%e0%b8%a3-%e0%b8%81%e0%b8%a5%e0%b8%a2%e0%b8%b8%e0%b8%97%e0%b8%98%e0%b9%8c%e0%b8%81%e0%b8%b2%e0%b8%a3%e0%b8%82%e0%b8%b1%e0%b8%9a%e0%b9%80/
LOCATION:Online Zoom
CATEGORIES:Public ด้านอุตสาหกรรม โรงงาน,อาจารย์ณรงค์ ตู้ทอง
ATTACH;FMTTYPE=image/jpeg:https://tesstraining.com/wp-content/uploads/2023/03/SMART-LOGISTIC-4.0-copy.jpg
END:VEVENT
BEGIN:VEVENT
DTSTART;VALUE=DATE:20250902
DTEND;VALUE=DATE:20250903
DTSTAMP:20260422T050729
CREATED:20240201T025258Z
LAST-MODIFIED:20250624T150743Z
UID:2406-1756771200-1756857599@tesstraining.com
SUMMARY:หลักสูตร PHOTOSHOP FOR BANNER TECHNIQUES COURSE
DESCRIPTION:หลักสูตร PHOTOSHOP FOR BANNER TECHNIQUES COURSE\n 
URL:https://tesstraining.com/calendartess/%e0%b8%ab%e0%b8%a5%e0%b8%b1%e0%b8%81%e0%b8%aa%e0%b8%b9%e0%b8%95%e0%b8%a3-photoshop-for-banner-techniques-course/
LOCATION:Onsite โรงแรมโนโวเทล / Online Zoom
CATEGORIES:Public ด้านธุรกิจ ภาษา คอมพิวเตอร์
ATTACH;FMTTYPE=image/jpeg:https://tesstraining.com/wp-content/uploads/2024/02/PHOTOSHOP-copy.jpg
END:VEVENT
BEGIN:VEVENT
DTSTART;VALUE=DATE:20250430
DTEND;VALUE=DATE:20250501
DTSTAMP:20260422T050729
CREATED:20240201T032719Z
LAST-MODIFIED:20250326T084530Z
UID:2418-1745971200-1746057599@tesstraining.com
SUMMARY:หลักสูตร กลยุทธ์การเจรจาต่อรองแบบไม่เป็นรองอย่างมีชั้นเชิง
DESCRIPTION:หลักสูตร กลยุทธ์การเจรจาต่อรอง\nแบบไม่เป็นรองอย่างมีชั้นเชิง\nกลยุทธ์การเจรจาต่อรองแบบไม่เป็นรองอย่างมีชั้นเชิง  \nที่มาของหลักสูตร                   \nกระบวนการทางการเจรจาต่อรอง เป็นเรื่องของการเตรียมความพร้อมก่อนการเจรจาต่อรอง การวิเคราะห์ และเพื่อค้นหาความต้องการ เป็นการส่งสัญญาณให้เคลื่อนไหวในการเจรจาต่อรอง การพิจารณาข้อเสนอ การแลกเปลี่ยนข้อตกลง รวมทั้งการปิดการเจรจา สิ่งต่างๆที่กล่าวมา เป็นกระบวนการทางเจรจาต่อรองที่เชื่อมโยงและมีความต่อเนื่องกัน จึงทำให้ขาดสิ่งหนึ่งสิ่งใดไปไม่ได้ ถ้าขาด ก็จะทำให้กระบวนการทางการเจรจาต่อรองนั้น ไม่สมบูรณ์แบบ และไม่ประสบความสำเร็จในการเจรจาต่อรองแบบไม่เป็นรองอย่างมีชั้นเชิง การเข้าใจและวิเคราะห์สภาพแวดล้อมเพื่อเข้าใจวิธีคิดและความต้องการของคู่เจรจา เพื่อให้การเจรจาต่อรองลดน้อยลง จนไปถึงสามารถบรรลุเป้าหมายของการเจรจาแบบ Win-Win ในที่สุด \nสิ่งที่ได้รับจากการฝึกอบรม \nเพื่อให้ผู้เข้าฝึกอบรมและสัมมนาได้เพิ่มพูนความรู้ และทักษะความเข้าใจหลักการและข้อปฏิบัติที่ถูกต้องในการเจรจาต่อรองแบบไม่เป็นรองอย่างมีชั้นเชิง ตลอดจนมีทักษะพื้นฐานที่จำเป็น  เพื่อนำไปสู่ข้อตกลงที่เหมาะสมและเป็นประโยชน์ต่อการบรรลุเป้าหมายของงานและผู้เจรจาได้ในที่สุด \nหัวข้อการฝึกอบรม \n\nแนวคิดว่าด้วยการเจรจาต่อรองเชิงกลยุทธ์\nWorkshop : Professional Negotiation Problem\nกลยุทธ์ และกระบวนการเจรจาต่อรอง (RESPECT)\nขั้นตอนการเตรียมการเพื่อความพร้อมการเจรจา\nยุทธวิธีของอำนาจต่อรอง (การเจรจา)\nสำรวจความต้องการด้วยการตั้งคำถาม\nการสืบเสาะสัญญาณเพื่อส่งสัญญาณการเจรจา\nการเตรียมและดำเนินการทำข้อเสนอการเจรจา\nขั้นตอนการแลกเปลี่ยนข้อตกลงด้วยขอบเขตการต่อรอง\nการปิดการเจรจาต่อรองแบบสมบูรณ์แบบ\nยืนยันให้กระชับด้วยการทำข้อตกลงการเจรจา\nWorkshop –> Professional Negotiation Solution\n\nวิธีการและรูปแบบการฝึกอบรม \n    – Virtual Class Online Training by Conference Meeting Application \n– อภิปรายแลกเปลี่ยนความคิดเห็น สะท้อนแนวคิดร่วมกัน \n– สรุปและถาม-ตอบ เพื่อทดสอบความเข้าใจ \nผู้เข้าฝึกอบรม \nผู้มีหน้าที่และเกี่ยวข้องกับการใช้ทักษะการเจรจาต่อรองแบบไม่เป็นรองอย่างมีชั้นเชิงในหลายๆหน่วยงานในองค์กรไม่ว่าจะเป็นผู้บังคับบัญชาทุกระดับ พนักงานทุกระดับในองค์กร \nวิทยากร   :      อาจารย์ สุกิจ ตรียุทธวัฒนา
URL:https://tesstraining.com/calendartess/%e0%b8%ab%e0%b8%a5%e0%b8%b1%e0%b8%81%e0%b8%aa%e0%b8%b9%e0%b8%95%e0%b8%a3-%e0%b8%81%e0%b8%a5%e0%b8%a2%e0%b8%b8%e0%b8%97%e0%b8%98%e0%b9%8c%e0%b8%81%e0%b8%b2%e0%b8%a3%e0%b9%80%e0%b8%88%e0%b8%a3%e0%b8%88/
LOCATION:Onsite โรงแรมโนโวเทล / Online Zoom
CATEGORIES:Public ด้านการขาย การตลาด การบริการ,อาจารย์สุกิจ ตรียุทธวัฒนา
ATTACH;FMTTYPE=image/jpeg:https://tesstraining.com/wp-content/uploads/2024/02/กลยุทธ์การเจรจาต่อรองแบบไม่เป็นรองอย่างมีชั้นเชิง.jpg
END:VEVENT
BEGIN:VEVENT
DTSTART;TZID=Asia/Krasnoyarsk:20240604T090000
DTEND;TZID=Asia/Krasnoyarsk:20240604T160000
DTSTAMP:20260422T050729
CREATED:20230419T082803Z
LAST-MODIFIED:20240508T084926Z
UID:1646-1717491600-1717516800@tesstraining.com
SUMMARY:หลักสูตร สุดยอดนักขายยุคใหม่เหนือยุคดิจิตัล
DESCRIPTION:หลักสูตร สุดยอดนักขายยุคใหม่เหนือยุคดิจิตัล\n  \nคลิ๊กชื่อหลักสูตร เพื่อดูรายละเอียดเนื้อหา
URL:https://tesstraining.com/calendartess/%e0%b8%ab%e0%b8%a5%e0%b8%b1%e0%b8%81%e0%b8%aa%e0%b8%b9%e0%b8%95%e0%b8%a3-%e0%b8%aa%e0%b8%b8%e0%b8%94%e0%b8%a2%e0%b8%ad%e0%b8%94%e0%b8%99%e0%b8%b1%e0%b8%81%e0%b8%82%e0%b8%b2%e0%b8%a2%e0%b8%a2%e0%b8%b8/
LOCATION:Onsite โรงแรมโนโวเทล / Online Zoom
CATEGORIES:Public ด้านการขาย การตลาด การบริการ,อาจารย์ประเสริฐ สุขไพบูลย์กุล
ATTACH;FMTTYPE=image/jpeg:https://tesstraining.com/wp-content/uploads/2023/03/351.jpg
END:VEVENT
END:VCALENDAR