BEGIN:VCALENDAR
VERSION:2.0
PRODID:-//Tess Training | สถาบันฝึกอบรมการขาย หลักสูตรการบริการ และสัมมนาครบวงจร - ECPv6.15.17.1//NONSGML v1.0//EN
CALSCALE:GREGORIAN
METHOD:PUBLISH
X-ORIGINAL-URL:https://tesstraining.com
X-WR-CALDESC:Events for Tess Training | สถาบันฝึกอบรมการขาย หลักสูตรการบริการ และสัมมนาครบวงจร
REFRESH-INTERVAL;VALUE=DURATION:PT1H
X-Robots-Tag:noindex
X-PUBLISHED-TTL:PT1H
BEGIN:VTIMEZONE
TZID:Asia/Krasnoyarsk
BEGIN:STANDARD
TZOFFSETFROM:+0700
TZOFFSETTO:+0700
TZNAME:+07
DTSTART:20250101T000000
END:STANDARD
END:VTIMEZONE
BEGIN:VEVENT
DTSTART;TZID=Asia/Krasnoyarsk:20260320T090000
DTEND;TZID=Asia/Krasnoyarsk:20260320T160000
DTSTAMP:20260420T153735
CREATED:20230327T145809Z
LAST-MODIFIED:20251125T062136Z
UID:1641-1773997200-1774022400@tesstraining.com
SUMMARY:หลักสูตร ADOBE PHOTOSHOP CS6 FOR TECHNIQUES ฝึกปฎิบัติจริง
DESCRIPTION:หลักสูตร ADOBE PHOTOSHOP CS6 FOR TECHNIQUES ฝึกปฎิบัติจริง\nคลิ๊กชื่อหลักสูตร เพื่อดูรายละเอียดเนื้อหา
URL:https://tesstraining.com/calendartess/%e0%b8%ab%e0%b8%a5%e0%b8%b1%e0%b8%81%e0%b8%aa%e0%b8%b9%e0%b8%95%e0%b8%a3-adobe-photoshop-cs6-for-techniques-%e0%b8%9d%e0%b8%b6%e0%b8%81%e0%b8%9b%e0%b8%8e%e0%b8%b4%e0%b8%9a%e0%b8%b1%e0%b8%95%e0%b8%b4/
LOCATION:Onsite โรงแรมโนโวเทล / Online Zoom
CATEGORIES:Public ด้านธุรกิจ ภาษา คอมพิวเตอร์
ATTACH;FMTTYPE=image/jpeg:https://tesstraining.com/wp-content/uploads/2023/03/Pic-psd.jpg
END:VEVENT
END:VCALENDAR