BEGIN:VCALENDAR
VERSION:2.0
PRODID:-//Tess Training | สถาบันฝึกอบรมการขาย หลักสูตรการบริการ และสัมมนาครบวงจร - ECPv6.15.17.1//NONSGML v1.0//EN
CALSCALE:GREGORIAN
METHOD:PUBLISH
X-ORIGINAL-URL:https://tesstraining.com
X-WR-CALDESC:Events for Tess Training | สถาบันฝึกอบรมการขาย หลักสูตรการบริการ และสัมมนาครบวงจร
REFRESH-INTERVAL;VALUE=DURATION:PT1H
X-Robots-Tag:noindex
X-PUBLISHED-TTL:PT1H
BEGIN:VTIMEZONE
TZID:Asia/Krasnoyarsk
BEGIN:STANDARD
TZOFFSETFROM:+0700
TZOFFSETTO:+0700
TZNAME:+07
DTSTART:20250101T000000
END:STANDARD
END:VTIMEZONE
BEGIN:VEVENT
DTSTART;TZID=Asia/Krasnoyarsk:20260403T090000
DTEND;TZID=Asia/Krasnoyarsk:20260403T160000
DTSTAMP:20260421T205538
CREATED:20230323T083329Z
LAST-MODIFIED:20260322T140540Z
UID:1203-1775206800-1775232000@tesstraining.com
SUMMARY:หลักสูตร เทคนิคการเจรจาต่อรองและการโน้มน้าวเพื่อปิดการขาย
DESCRIPTION:หลักสูตร เทคนิคการเจรจาต่อรองและการโน้มน้าวเพื่อปิดการขาย\n \nคลิ๊กชื่อหลักสูตร เพื่อดูรายละเอียดเนื้อหา \n 
URL:https://tesstraining.com/calendartess/%e0%b8%ab%e0%b8%a5%e0%b8%b1%e0%b8%81%e0%b8%aa%e0%b8%b9%e0%b8%95%e0%b8%a3-%e0%b9%80%e0%b8%97%e0%b8%84%e0%b8%99%e0%b8%b4%e0%b8%84%e0%b8%81%e0%b8%b2%e0%b8%a3%e0%b9%80%e0%b8%88%e0%b8%a3%e0%b8%88%e0%b8%b2/
LOCATION:Onsite โรงแรมโนโวเทล / Online Zoom
CATEGORIES:Public ด้านการขาย การตลาด การบริการ,อาจารย์ประเสริฐ สุขไพบูลย์กุล
ATTACH;FMTTYPE=image/jpeg:https://tesstraining.com/wp-content/uploads/2023/03/Pic-เจรจาต่อรอง-1-1.jpg
END:VEVENT
END:VCALENDAR