BEGIN:VCALENDAR
VERSION:2.0
PRODID:-//Tess Training | สถาบันฝึกอบรมการขาย หลักสูตรการบริการ และสัมมนาครบวงจร - ECPv6.15.17.1//NONSGML v1.0//EN
CALSCALE:GREGORIAN
METHOD:PUBLISH
X-WR-CALNAME:Tess Training | สถาบันฝึกอบรมการขาย หลักสูตรการบริการ และสัมมนาครบวงจร
X-ORIGINAL-URL:https://tesstraining.com
X-WR-CALDESC:Events for Tess Training | สถาบันฝึกอบรมการขาย หลักสูตรการบริการ และสัมมนาครบวงจร
REFRESH-INTERVAL;VALUE=DURATION:PT1H
X-Robots-Tag:noindex
X-PUBLISHED-TTL:PT1H
BEGIN:VTIMEZONE
TZID:Asia/Krasnoyarsk
BEGIN:STANDARD
TZOFFSETFROM:+0700
TZOFFSETTO:+0700
TZNAME:+07
DTSTART:20250101T000000
END:STANDARD
END:VTIMEZONE
BEGIN:VEVENT
DTSTART;VALUE=DATE:20260325
DTEND;VALUE=DATE:20260326
DTSTAMP:20260421T205353
CREATED:20250530T020223Z
LAST-MODIFIED:20260322T140218Z
UID:3112-1774396800-1774483199@tesstraining.com
SUMMARY:หลักสูตร Sales Coordinator พนักงานประสานงานขายผู้ช่วยเพิ่มยอดขาย
DESCRIPTION:หลักสูตร Sales Coordinator พนักงานประสานงานขายผู้ช่วยเพิ่มยอดขาย\nหลักสูตร Sales Coordinator พนักงานประสานงานขายผู้ช่วยเพิ่มยอดขาย
URL:https://tesstraining.com/calendartess/%e0%b8%ab%e0%b8%a5%e0%b8%b1%e0%b8%81%e0%b8%aa%e0%b8%b9%e0%b8%95%e0%b8%a3-sales-coordinator-%e0%b8%9e%e0%b8%99%e0%b8%b1%e0%b8%81%e0%b8%87%e0%b8%b2%e0%b8%99%e0%b8%9b%e0%b8%a3%e0%b8%b0%e0%b8%aa%e0%b8%b2/
CATEGORIES:Public ด้านการขาย การตลาด การบริการ
ATTACH;FMTTYPE=image/jpeg:https://tesstraining.com/wp-content/uploads/2025/05/SALES-COORDINATOR-copy.jpg
END:VEVENT
BEGIN:VEVENT
DTSTART;VALUE=DATE:20260327
DTEND;VALUE=DATE:20260328
DTSTAMP:20260421T205353
CREATED:20240118T123913Z
LAST-MODIFIED:20260204T080939Z
UID:2158-1774569600-1774655999@tesstraining.com
SUMMARY:(Inhouse) หลักสูตร DIGITAL MARKETING ขายออนไลน์ยุคใหม่เพิ่มยอดขายทุกมิติ
DESCRIPTION:หลักสูตร Digital Marketing\nขายออนไลน์ยุคใหม่เพิ่มยอดขายทุกมิติ\nInhouse Training\nหลักสูตรลิขสิทธิ์ เฉพาะบริษัท เทสส์ เทรนนิ่ง จำกัด เท่านั้น ห้ามคัดลอกเลียนแบบ \n \n 
URL:https://tesstraining.com/calendartess/%e0%b8%ab%e0%b8%a5%e0%b8%b1%e0%b8%81%e0%b8%aa%e0%b8%b9%e0%b8%95%e0%b8%a3-digital-marketing-%e0%b8%82%e0%b8%b2%e0%b8%a2%e0%b8%ad%e0%b8%ad%e0%b8%99%e0%b9%84%e0%b8%a5%e0%b8%99%e0%b9%8c%e0%b8%a2%e0%b8%b8/
LOCATION:โรงแรมโนโวเทล สุขุมวิท 20
CATEGORIES:Public ด้านการขาย การตลาด การบริการ,Public ด้านธุรกิจ ภาษา คอมพิวเตอร์,อาจารย์ประเสริฐ สุขไพบูลย์กุล
ATTACH;FMTTYPE=image/jpeg:https://tesstraining.com/wp-content/uploads/2024/01/หลักสูตร-Digital-marketing-1-1.jpg
END:VEVENT
BEGIN:VEVENT
DTSTART;VALUE=DATE:20260330
DTEND;VALUE=DATE:20260331
DTSTAMP:20260421T205353
CREATED:20230323T170007Z
LAST-MODIFIED:20260322T141049Z
UID:1469-1774828800-1774915199@tesstraining.com
SUMMARY:หลักสูตร เทคนิคการขาย เพื่อการเป็นมืออาชีพขั้นเทพ 2026 อ.ประเสริฐ
DESCRIPTION:หลักสูตร เทคนิคการขาย เพื่อการเป็นมืออาชีพขั้นเทพ 2026 อ.ประเสริฐ\nคลิ๊กชื่อหลักสูตร เพื่อดูรายละเอียดเนื้อหา \n \n 
URL:https://tesstraining.com/calendartess/%e0%b8%ab%e0%b8%a5%e0%b8%b1%e0%b8%81%e0%b8%aa%e0%b8%b9%e0%b8%95%e0%b8%a3-%e0%b9%80%e0%b8%97%e0%b8%84%e0%b8%99%e0%b8%b4%e0%b8%84%e0%b8%81%e0%b8%b2%e0%b8%a3%e0%b8%82%e0%b8%b2%e0%b8%a2-%e0%b9%80%e0%b8%9e/
LOCATION:Onsite โรงแรมโนโวเทล / Online Zoom
CATEGORIES:Public ด้านการขาย การตลาด การบริการ,อาจารย์ประเสริฐ สุขไพบูลย์กุล
ATTACH;FMTTYPE=image/jpeg:https://tesstraining.com/wp-content/uploads/2023/03/ขั้นเทพ-2025-copy.jpg
END:VEVENT
BEGIN:VEVENT
DTSTART;VALUE=DATE:20260331
DTEND;VALUE=DATE:20260401
DTSTAMP:20260421T205353
CREATED:20250530T022629Z
LAST-MODIFIED:20260322T135820Z
UID:3126-1774915200-1775001599@tesstraining.com
SUMMARY:หลักสูตร ข้อควรรู้เกี่ยวกับการส่งเสริมการลงทุน BOI
DESCRIPTION:หลักสูตร ข้อควรรู้เกี่ยวกับการส่งเสริมการลงทุน BOI\nหลักสูตร ข้อควรรู้เกี่ยวกับการส่งเสริมการลงทุน BOI
URL:https://tesstraining.com/calendartess/%e0%b8%ab%e0%b8%a5%e0%b8%b1%e0%b8%81%e0%b8%aa%e0%b8%b9%e0%b8%95%e0%b8%a3-%e0%b8%82%e0%b9%89%e0%b8%ad%e0%b8%84%e0%b8%a7%e0%b8%a3%e0%b8%a3%e0%b8%b9%e0%b9%89%e0%b9%80%e0%b8%81%e0%b8%b5%e0%b9%88%e0%b8%a2/
CATEGORIES:Public ด้านการขาย การตลาด การบริการ
ATTACH;FMTTYPE=image/jpeg:https://tesstraining.com/wp-content/uploads/2025/05/การส่งเสริมการลงทุน-BOI-copy.jpg
END:VEVENT
END:VCALENDAR