BEGIN:VCALENDAR
VERSION:2.0
PRODID:-//Tess Training | สถาบันฝึกอบรมการขาย หลักสูตรการบริการ และสัมมนาครบวงจร - ECPv6.15.17.1//NONSGML v1.0//EN
CALSCALE:GREGORIAN
METHOD:PUBLISH
X-WR-CALNAME:Tess Training | สถาบันฝึกอบรมการขาย หลักสูตรการบริการ และสัมมนาครบวงจร
X-ORIGINAL-URL:https://tesstraining.com
X-WR-CALDESC:Events for Tess Training | สถาบันฝึกอบรมการขาย หลักสูตรการบริการ และสัมมนาครบวงจร
REFRESH-INTERVAL;VALUE=DURATION:PT1H
X-Robots-Tag:noindex
X-PUBLISHED-TTL:PT1H
BEGIN:VTIMEZONE
TZID:Asia/Krasnoyarsk
BEGIN:STANDARD
TZOFFSETFROM:+0700
TZOFFSETTO:+0700
TZNAME:+07
DTSTART:20250101T000000
END:STANDARD
END:VTIMEZONE
BEGIN:VEVENT
DTSTART;TZID=Asia/Krasnoyarsk:20260410T090000
DTEND;TZID=Asia/Krasnoyarsk:20260410T160000
DTSTAMP:20260422T020654
CREATED:20230324T000011Z
LAST-MODIFIED:20251125T060629Z
UID:1480-1775811600-1775836800@tesstraining.com
SUMMARY:หลักสูตร การลดความสูญเสียทั้ง 7 ประการ เพื่อลดต้นทุนการผลิต อ.อนันต์
DESCRIPTION:หลักสูตร การลดความสูญเสียทั้ง 7 ประการ เพื่อลดต้นทุนการผลิต 7 WASTE FOR COST REDUCTION\nคลิ๊กชื่อหลักสูตร เพื่อดูรายละเอียดเนื้อหา
URL:https://tesstraining.com/calendartess/%e0%b8%ab%e0%b8%a5%e0%b8%b1%e0%b8%81%e0%b8%aa%e0%b8%b9%e0%b8%95%e0%b8%a3-%e0%b8%81%e0%b8%b2%e0%b8%a3%e0%b8%a5%e0%b8%94%e0%b8%84%e0%b8%a7%e0%b8%b2%e0%b8%a1%e0%b8%aa%e0%b8%b9%e0%b8%8d%e0%b9%80%e0%b8%aa/
LOCATION:Online Zoom
CATEGORIES:Public ด้านอุตสาหกรรม โรงงาน,อาจารย์อนันต์ ดีโรจนวงศ์
ATTACH;FMTTYPE=image/jpeg:https://tesstraining.com/wp-content/uploads/2023/03/การลดความสูญเสียทั้ง-7-ประการ-copy.jpg
END:VEVENT
BEGIN:VEVENT
DTSTART;VALUE=DATE:20260407
DTEND;VALUE=DATE:20260408
DTSTAMP:20260422T020654
CREATED:20230802T040512Z
LAST-MODIFIED:20260322T140931Z
UID:1964-1775520000-1775606399@tesstraining.com
SUMMARY:หลักสูตร การจัดการคลังสินค้าและควบคุมสินค้าคงคลังอย่างมีประสิทธิภาพ
DESCRIPTION:หลักสูตร การจัดการคลังสินค้าและควบคุมสินค้าคงคลังอย่างมีประสิทธิภาพ \nคลิ๊กชื่อหลักสูตร เพื่อดูรายละเอียดเนื้อหา
URL:https://tesstraining.com/calendartess/%e0%b8%ab%e0%b8%a5%e0%b8%b1%e0%b8%81%e0%b8%aa%e0%b8%b9%e0%b8%95%e0%b8%a3-%e0%b8%81%e0%b8%b2%e0%b8%a3%e0%b8%88%e0%b8%b1%e0%b8%94%e0%b8%81%e0%b8%b2%e0%b8%a3%e0%b8%84%e0%b8%a5%e0%b8%b1%e0%b8%87%e0%b8%aa/
LOCATION:โรงแรมแรมแบรนดท์ สุขุมวิท 18-20\, โรงแรมแรมแบรนดท์ สุขุมวิท 18 ถนนสุขุมวิท คลองเตย กรุงเทพฯ 10110\, Bangkok\, 10110\, Thailand
CATEGORIES:Public ด้านอุตสาหกรรม โรงงาน,อาจารย์อนันต์ ดีโรจนวงศ์
ATTACH;FMTTYPE=image/jpeg:https://tesstraining.com/wp-content/uploads/2023/08/Pic-เทคนิคการจัดการสินค้าคงคลัง-copy.jpg
END:VEVENT
BEGIN:VEVENT
DTSTART;TZID=Asia/Krasnoyarsk:20260326T090000
DTEND;TZID=Asia/Krasnoyarsk:20260326T160000
DTSTAMP:20260422T020654
CREATED:20230323T124423Z
LAST-MODIFIED:20260322T140649Z
UID:1312-1774515600-1774540800@tesstraining.com
SUMMARY:หลักสูตร การวางแผนและควบคุมการผลิตอย่างมีประสิทธิภาพ
DESCRIPTION:หลักสูตร การวางแผนและควบคุมการผลิตอย่างมีประสิทธิภาพ\nคลิ๊กชื่อหลักสูตร เพื่อดูรายละเอียดเนื้อหา
URL:https://tesstraining.com/calendartess/%e0%b8%ab%e0%b8%a5%e0%b8%b1%e0%b8%81%e0%b8%aa%e0%b8%b9%e0%b8%95%e0%b8%a3-%e0%b8%81%e0%b8%b2%e0%b8%a3%e0%b8%a7%e0%b8%b2%e0%b8%87%e0%b9%81%e0%b8%9c%e0%b8%99%e0%b9%81%e0%b8%a5%e0%b8%b0%e0%b8%84%e0%b8%a7/
LOCATION:โรงแรมแรมแบรนดท์ สุขุมวิท 18-20\, โรงแรมแรมแบรนดท์ สุขุมวิท 18 ถนนสุขุมวิท คลองเตย กรุงเทพฯ 10110\, Bangkok\, 10110\, Thailand
CATEGORIES:Public ด้านอุตสาหกรรม โรงงาน,อาจารย์อนันต์ ดีโรจนวงศ์
ATTACH;FMTTYPE=image/jpeg:https://tesstraining.com/wp-content/uploads/2023/03/Pic-การวางแผนและควบคุมการผลิตอย่างมีประสิทธิภาพ.jpg
END:VEVENT
END:VCALENDAR