BEGIN:VCALENDAR
VERSION:2.0
PRODID:-//Tess Training | สถาบันฝึกอบรมการขาย หลักสูตรการบริการ และสัมมนาครบวงจร - ECPv6.15.17.1//NONSGML v1.0//EN
CALSCALE:GREGORIAN
METHOD:PUBLISH
X-WR-CALNAME:Tess Training | สถาบันฝึกอบรมการขาย หลักสูตรการบริการ และสัมมนาครบวงจร
X-ORIGINAL-URL:https://tesstraining.com
X-WR-CALDESC:Events for Tess Training | สถาบันฝึกอบรมการขาย หลักสูตรการบริการ และสัมมนาครบวงจร
REFRESH-INTERVAL;VALUE=DURATION:PT1H
X-Robots-Tag:noindex
X-PUBLISHED-TTL:PT1H
BEGIN:VTIMEZONE
TZID:Asia/Krasnoyarsk
BEGIN:STANDARD
TZOFFSETFROM:+0700
TZOFFSETTO:+0700
TZNAME:+07
DTSTART:20250101T000000
END:STANDARD
END:VTIMEZONE
BEGIN:VEVENT
DTSTART;VALUE=DATE:20260519
DTEND;VALUE=DATE:20260520
DTSTAMP:20260421T222903
CREATED:20231224T065953Z
LAST-MODIFIED:20260322T135700Z
UID:2044-1779148800-1779235199@tesstraining.com
SUMMARY:ทักษะการสื่อสารอย่างมีประสิทธิภาพ เพื่อความสำเร็จในการทำงาน
DESCRIPTION:ทักษะการสื่อสารอย่างมีประสิทธิภาพ เพื่อความสำเร็จในการทำงาน\nหลักสูตร ทักษะการสื่อสารอย่างมีประสิทธิภาพ เพื่อความสำเร็จในการทำงาน \n \n 
URL:https://tesstraining.com/calendartess/%e0%b8%97%e0%b8%b1%e0%b8%81%e0%b8%a9%e0%b8%b0%e0%b8%81%e0%b8%b2%e0%b8%a3%e0%b8%aa%e0%b8%b7%e0%b9%88%e0%b8%ad%e0%b8%aa%e0%b8%b2%e0%b8%a3%e0%b8%ad%e0%b8%a2%e0%b9%88%e0%b8%b2%e0%b8%87%e0%b8%a1%e0%b8%b5/
LOCATION:Onsite โรงแรมโนโวเทล / Online Zoom
CATEGORIES:Public ด้านการบริหาร ผู้นำ HR,อาจารย์ประเสริฐ สุขไพบูลย์กุล
ATTACH;FMTTYPE=image/jpeg:https://tesstraining.com/wp-content/uploads/2023/12/เทคนิคการสื่อสาร.jpg
END:VEVENT
BEGIN:VEVENT
DTSTART;TZID=Asia/Krasnoyarsk:20260519T090000
DTEND;TZID=Asia/Krasnoyarsk:20260519T160000
DTSTAMP:20260421T222903
CREATED:20230324T005441Z
LAST-MODIFIED:20251125T061120Z
UID:1508-1779181200-1779206400@tesstraining.com
SUMMARY:หลักสูตร การควบคุมเอกสารและบันทึกตามระบบการจัดการ (DOCUMENT CONTROL) ทุกระบบ
DESCRIPTION:หลักสูตร การควบคุมเอกสารและบันทึกตามระบบการจัดการ (DOCUMENT CONTROL) ทุกระบบ\nคลิ๊กชื่อหลักสูตร เพื่อดูรายละเอียดเนื้อหา
URL:https://tesstraining.com/calendartess/%e0%b8%ab%e0%b8%a5%e0%b8%b1%e0%b8%81%e0%b8%aa%e0%b8%b9%e0%b8%95%e0%b8%a3-%e0%b8%81%e0%b8%b2%e0%b8%a3%e0%b8%84%e0%b8%a7%e0%b8%9a%e0%b8%84%e0%b8%b8%e0%b8%a1%e0%b9%80%e0%b8%ad%e0%b8%81%e0%b8%aa%e0%b8%b2/
LOCATION:Onsite โรงแรมโนโวเทล / Online Zoom
CATEGORIES:Public ด้านอุตสาหกรรม โรงงาน,อาจารย์ทิพอาภา ลี้ประเสริฐ
ATTACH;FMTTYPE=image/jpeg:https://tesstraining.com/wp-content/uploads/2023/03/การควบคุมเอกสารและบันทึกตามระบบการจัดการ-Document-Control-ทุกระบบ-copy.jpg
END:VEVENT
END:VCALENDAR