BEGIN:VCALENDAR
VERSION:2.0
PRODID:-//Tess Training | สถาบันฝึกอบรมการขาย หลักสูตรการบริการ และสัมมนาครบวงจร - ECPv6.15.17.1//NONSGML v1.0//EN
CALSCALE:GREGORIAN
METHOD:PUBLISH
X-WR-CALNAME:Tess Training | สถาบันฝึกอบรมการขาย หลักสูตรการบริการ และสัมมนาครบวงจร
X-ORIGINAL-URL:https://tesstraining.com
X-WR-CALDESC:Events for Tess Training | สถาบันฝึกอบรมการขาย หลักสูตรการบริการ และสัมมนาครบวงจร
REFRESH-INTERVAL;VALUE=DURATION:PT1H
X-Robots-Tag:noindex
X-PUBLISHED-TTL:PT1H
BEGIN:VTIMEZONE
TZID:Asia/Krasnoyarsk
BEGIN:STANDARD
TZOFFSETFROM:+0700
TZOFFSETTO:+0700
TZNAME:+07
DTSTART:20250101T000000
END:STANDARD
END:VTIMEZONE
BEGIN:VEVENT
DTSTART;VALUE=DATE:20260512
DTEND;VALUE=DATE:20260513
DTSTAMP:20260421T222903
CREATED:20250530T021018Z
LAST-MODIFIED:20260322T141105Z
UID:3117-1778544000-1778630399@tesstraining.com
SUMMARY:หลักสูตร เทคนิคการพยากรณ์ยอดขายเพื่อวิเคราะห์การขายจริงให้ได้ตามเป้า
DESCRIPTION:หลักสูตร เทคนิคการพยากรณ์ยอดขายเพื่อวิเคราะห์การขายจริงให้ได้ตามเป้า
URL:https://tesstraining.com/calendartess/%e0%b8%ab%e0%b8%a5%e0%b8%b1%e0%b8%81%e0%b8%aa%e0%b8%b9%e0%b8%95%e0%b8%a3-%e0%b9%80%e0%b8%97%e0%b8%84%e0%b8%99%e0%b8%b4%e0%b8%84%e0%b8%81%e0%b8%b2%e0%b8%a3%e0%b8%9e%e0%b8%a2%e0%b8%b2%e0%b8%81%e0%b8%a3/
CATEGORIES:Public ด้านการขาย การตลาด การบริการ,อาจารย์สุกิจ ตรียุทธวัฒนา
ATTACH;FMTTYPE=image/jpeg:https://tesstraining.com/wp-content/uploads/2023/03/521.jpg
END:VEVENT
BEGIN:VEVENT
DTSTART;TZID=Asia/Krasnoyarsk:20260512T090000
DTEND;TZID=Asia/Krasnoyarsk:20260512T160000
DTSTAMP:20260421T222903
CREATED:20230324T022301Z
LAST-MODIFIED:20260322T141315Z
UID:1532-1778576400-1778601600@tesstraining.com
SUMMARY:หลักสูตร SERVICE MIND ยกระดับการบริการให้เหนือชั้น อ.ประเสริฐ
DESCRIPTION:หลักสูตร SERVICE MIND ยกระดับการบริการให้เหนือชั้น\nคลิ๊กชื่อหลักสูตร เพื่อดูรายละเอียดเนื้อหา
URL:https://tesstraining.com/calendartess/%e0%b8%ab%e0%b8%a5%e0%b8%b1%e0%b8%81%e0%b8%aa%e0%b8%b9%e0%b8%95%e0%b8%a3-service-mind-%e0%b8%a2%e0%b8%81%e0%b8%a3%e0%b8%b0%e0%b8%94%e0%b8%b1%e0%b8%9a%e0%b8%81%e0%b8%b2%e0%b8%a3%e0%b8%9a%e0%b8%a3/
LOCATION:โรงแรมแรมแบรนดท์ สุขุมวิท 18-20\, โรงแรมแรมแบรนดท์ สุขุมวิท 18 ถนนสุขุมวิท คลองเตย กรุงเทพฯ 10110\, Bangkok\, 10110\, Thailand
CATEGORIES:Public ด้านการขาย การตลาด การบริการ,อาจารย์ประเสริฐ สุขไพบูลย์กุล
ATTACH;FMTTYPE=image/jpeg:https://tesstraining.com/wp-content/uploads/2023/03/324.jpg
END:VEVENT
END:VCALENDAR