BEGIN:VCALENDAR
VERSION:2.0
PRODID:-//Tess Training | สถาบันฝึกอบรมการขาย หลักสูตรการบริการ และสัมมนาครบวงจร - ECPv6.15.17.1//NONSGML v1.0//EN
CALSCALE:GREGORIAN
METHOD:PUBLISH
X-WR-CALNAME:Tess Training | สถาบันฝึกอบรมการขาย หลักสูตรการบริการ และสัมมนาครบวงจร
X-ORIGINAL-URL:https://tesstraining.com
X-WR-CALDESC:Events for Tess Training | สถาบันฝึกอบรมการขาย หลักสูตรการบริการ และสัมมนาครบวงจร
REFRESH-INTERVAL;VALUE=DURATION:PT1H
X-Robots-Tag:noindex
X-PUBLISHED-TTL:PT1H
BEGIN:VTIMEZONE
TZID:Asia/Krasnoyarsk
BEGIN:STANDARD
TZOFFSETFROM:+0700
TZOFFSETTO:+0700
TZNAME:+07
DTSTART:20250101T000000
END:STANDARD
END:VTIMEZONE
BEGIN:VEVENT
DTSTART;VALUE=DATE:20260423
DTEND;VALUE=DATE:20260425
DTSTAMP:20260421T204905
CREATED:20230323T170539Z
LAST-MODIFIED:20260204T082027Z
UID:1473-1776902400-1777075199@tesstraining.com
SUMMARY:หลักสูตร กลยุทธ์ในการทำธุรกรรมระหว่างประเทศนำเข้าส่งออก และกฎเกณฑ์ ข้อตกลงทางภาษีศุลกากรที่ควรเข้าใจ อบรม 2 วัน
DESCRIPTION:หลักสูตร กลยุทธ์ในการทำธุรกรรมระหว่างประเทศนำเข้าส่งออก และกฎเกณฑ์ ข้อตกลงทางภาษีศุลกากรที่ควรเข้าใจ อบรม 2 วัน\nคลิ๊กชื่อหลักสูตร เพื่อดูรายละเอียดเนื้อหา
URL:https://tesstraining.com/calendartess/%e0%b8%ab%e0%b8%a5%e0%b8%b1%e0%b8%81%e0%b8%aa%e0%b8%b9%e0%b8%95%e0%b8%a3-%e0%b8%81%e0%b8%a5%e0%b8%a2%e0%b8%b8%e0%b8%97%e0%b8%98%e0%b9%8c%e0%b9%83%e0%b8%99%e0%b8%81%e0%b8%b2%e0%b8%a3%e0%b8%97%e0%b8%b3/
LOCATION:โรงแรมแรมแบรนดท์ สุขุมวิท 18-20\, โรงแรมแรมแบรนดท์ สุขุมวิท 18 ถนนสุขุมวิท คลองเตย กรุงเทพฯ 10110\, Bangkok\, 10110\, Thailand
CATEGORIES:Public ด้านการขาย การตลาด การบริการ,อาจารย์มนตรี ยุวชาติ,อาจารย์วิรัตน์ บาหยัน
ATTACH;FMTTYPE=image/jpeg:https://tesstraining.com/wp-content/uploads/2023/03/605.jpg
END:VEVENT
BEGIN:VEVENT
DTSTART;TZID=Asia/Krasnoyarsk:20260424T130000
DTEND;TZID=Asia/Krasnoyarsk:20260424T170000
DTSTAMP:20260421T204905
CREATED:20230324T030640Z
LAST-MODIFIED:20260204T081942Z
UID:1549-1777035600-1777050000@tesstraining.com
SUMMARY:หลักสูตร การเตรียมความพร้อมรับมือพระราชบัญญัติคุ้มครองข้อมูลส่วนบุคคล (PDPA) นายจ้าง\,ผู้บริหาร\, HR. ต้องปฏิบัติอย่างไร..?
DESCRIPTION:หลักสูตร การเตรียมความพร้อมรับมือพระราชบัญญัติคุ้มครองข้อมูลส่วนบุคคล (PDPA) นายจ้าง\,ผู้บริหาร\, HR. ต้องปฏิบัติอย่างไร..?\nคลิ๊กชื่อหลักสูตร เพื่อดูรายละเอียดเนื้อหา 
URL:https://tesstraining.com/calendartess/%e0%b8%ab%e0%b8%a5%e0%b8%b1%e0%b8%81%e0%b8%aa%e0%b8%b9%e0%b8%95%e0%b8%a3-%e0%b8%81%e0%b8%b2%e0%b8%a3%e0%b9%80%e0%b8%95%e0%b8%a3%e0%b8%b5%e0%b8%a2%e0%b8%a1%e0%b8%84%e0%b8%a7%e0%b8%b2%e0%b8%a1%e0%b8%9e/
LOCATION:Online Zoom
CATEGORIES:Public ด้านการบริหาร ผู้นำ HR,อาจารย์สมบัติ น้อยหว้า
ATTACH;FMTTYPE=image/jpeg:https://tesstraining.com/wp-content/uploads/2023/03/pdpa-copy.jpg
END:VEVENT
END:VCALENDAR