BEGIN:VCALENDAR
VERSION:2.0
PRODID:-//Tess Training | สถาบันฝึกอบรมการขาย หลักสูตรการบริการ และสัมมนาครบวงจร - ECPv6.15.17.1//NONSGML v1.0//EN
CALSCALE:GREGORIAN
METHOD:PUBLISH
X-WR-CALNAME:Tess Training | สถาบันฝึกอบรมการขาย หลักสูตรการบริการ และสัมมนาครบวงจร
X-ORIGINAL-URL:http://tesstraining.com
X-WR-CALDESC:Events for Tess Training | สถาบันฝึกอบรมการขาย หลักสูตรการบริการ และสัมมนาครบวงจร
REFRESH-INTERVAL;VALUE=DURATION:PT1H
X-Robots-Tag:noindex
X-PUBLISHED-TTL:PT1H
BEGIN:VTIMEZONE
TZID:Asia/Krasnoyarsk
BEGIN:STANDARD
TZOFFSETFROM:+0700
TZOFFSETTO:+0700
TZNAME:+07
DTSTART:20250101T000000
END:STANDARD
END:VTIMEZONE
BEGIN:VEVENT
DTSTART;VALUE=DATE:20260421
DTEND;VALUE=DATE:20260422
DTSTAMP:20260421T013615
CREATED:20250530T021532Z
LAST-MODIFIED:20260204T080841Z
UID:3121-1776729600-1776815999@tesstraining.com
SUMMARY:หลักสูตร การเตรียมความพร้อมและแนวปฏิบัติของ DPO (DPO Preparation)
DESCRIPTION:หลักสูตร การเตรียมความพร้อมและแนวปฏิบัติของ DPO (DPO Preparation)\nหลักสูตร การเตรียมความพร้อมและแนวปฏิบัติของ DPO (DPO Preparation)
URL:http://tesstraining.com/calendartess/%e0%b8%ab%e0%b8%a5%e0%b8%b1%e0%b8%81%e0%b8%aa%e0%b8%b9%e0%b8%95%e0%b8%a3-%e0%b8%81%e0%b8%b2%e0%b8%a3%e0%b9%80%e0%b8%95%e0%b8%a3%e0%b8%b5%e0%b8%a2%e0%b8%a1%e0%b8%84%e0%b8%a7%e0%b8%b2%e0%b8%a1-2/
CATEGORIES:Public ด้านการบริหาร ผู้นำ HR
ATTACH;FMTTYPE=image/jpeg:http://tesstraining.com/wp-content/uploads/2025/05/pdpa-การเตรียมความพร้อมและแนวปฏิบัติของ-DPO-DPO-Preparation-copy.jpg
END:VEVENT
END:VCALENDAR